Workbook

Sheet TG. BUJOR 2025 august
A1: SPITALUL ORĂŞENESC TG. BUJOR | C1: Ordonator principal de credite, | L1: Director executiv,
A2: Nr. Înregistrare.2480/29.07. 2025 | C2: Fotea Costel | H2: Director executiv, | L2: Stoica George
H3: Stoica George
A6: BUGETUL INSTITUŢIILOR PUBLCE ŞI ACTIVITĂŢILOR FINANŢATE INTEGRAL SAU PARŢIAL DIN VENITURI PROPRII, PE ANUL 2025
A7: HCJ nr. / .08.2025 | N7: -mii lei-
A8: DENUMIRE INDICATOR | B8: ARTICOL | C8: BUGET 2025 | L8: 2026 | M8: 2027 | N8: 2028 | AE8: rezidenti
C9: BUGET INITIAL | D9: INFLU ENTE | E9: BUGET FINAL | F9: TOTAL an | G9: TRIM. I | H9: TRIM. II | I9: TRIM. III | J9: TRIM. IV | K9: Din care credite bugetare destinate stingerii platilor restante | P9: total infl. | Q9: TRIM. I | R9: TRIM. II | S9: TRIM. III | T9: TRIM. IV | V9: TRIM. II | W9: TRIM. III | X9: TRIM. IV | AD9: TOTAL an | AE9: TRIM. I | AF9: TRIM. II | AG9: TRIM. III | AH9: TRIM. IV
A10: 1 | B10: 2 | C10: 3 | D10: 4 | E10: 5 | F10: 3 | G10: 4 | H10: 5 | I10: 5 | J10: 7 | K10: 11 | L10: 12 | M10: 13 | N10: 14 | Q10: 7 | R10: 8 | S10: 9 | T10: 10 | AD10: 3 | AE10: 4 | AF10: 5 | AG10: 5 | AH10: 7
A11: TOTAL VENITURI (cod 00.02+00.15+00.16+00.17+45.10+48.10) | B11: 00.01 | C11: =C12+C61+C65+C75+C85+C103+C165 -> 18326.73 | D11: =D12+D61+D65+D75+D85+D103+D165 -> 510 | E11: =E12+E61+E65+E75+E85+E103+E165 -> 18836.73 | F11: =F12+F61+F65+F75+F85+F103+F165 -> 18836.725 | G11: =G12+G61+G65+G75+G85+G103+G165 -> 4223 | H11: =H12+H61+H65+H75+H85+H103+H165 -> 5769.075 | I11: =I12+I61+I65+I75+I85+I103+I165 -> 4454.65 | J11: =J12+J61+J65+J75+J85+J103+J165 -> 4390 | K11: =K12+K61+K65+K75+K103+K165 -> 15 | L11: =L12+L61+L65+L75+L103+L165 -> 17532 | M11: =M12+M61+M65+M75+M103+M165 -> 17634 | N11: =N12+N61+N65+N75+N103+N165 -> 18236 | O11: =O12+O61+O65+O75+O103+O165 -> 0 | P11: =P12+P61+P65+P75+P103+P165 -> 0 | Q11: =Q12+Q61+Q65+Q75+Q103+Q165 -> 0 | R11: =R12+R61+R65+R75+R103+R165 -> 0 | ... X11: =X12+X61+X65+X75+X103+X165 -> 0
A12: I. VENITURI CURENTE (cod 00.03+00.12) | B12: 00.02 | C12: =C13+C18 -> 6716 | D12: =D13+D18 -> 0 | E12: =E13+E18 -> 6716 | F12: =F13+F18 -> 6716 | G12: =G13+G18 -> 1641 | H12: =H13+H18 -> 1660 | I12: =I13+I18 -> 1875 | J12: =J13+J18 -> 1540 | ... N12: =N13+N18 -> 6300 | P12: =Q12+R12+S12+T12 -> 0 | U12: =G12+H12 -> 3301
A13: A. VENITURI FISCALE (cod 00.10) | B13: 00.03 | C13: =C14 -> 0 | D13: =D14 -> 0 | E13: =E14 -> 0 | F13: =F14 -> 0 | G13: =G14 -> 0 | H13: =H14 -> 0 | I13: =I14 -> 0 | J13: =J14 -> 0 | ... N13: =N14 -> 0 | P13: =Q13+R13+S13+T13 -> 0
A14: A4. IMPOZITE SI TAXE PE BUNURI SI SERVICII (cod 15.10) | B14: 00.10 | C14: =C15 -> 0 | D14: =D15 -> 0 | E14: =E15 -> 0 | F14: =F15 -> 0 | G14: =G15 -> 0 | H14: =H15 -> 0 | I14: =I15 -> 0 | J14: =J15 -> 0 | ... N14: =N15 -> 0 | P14: =Q14+R14+S14+T14 -> 0
A15: Taxe pe servicii specifice (cod 15.10.01+15.10.50) | B15: 15.10 | C15: =C16+C17 -> 0 | D15: =D16+D17 -> 0 | E15: =E16+E17 -> 0 | F15: =F16+F17 -> 0 | G15: =G16+G17 -> 0 | H15: =H16+H17 -> 0 | I15: =I16+I17 -> 0 | J15: =J16+J17 -> 0 | ... N15: =N16+N17 -> 0
A16: Impozit pe spectacole | B16: 15.10.01 | E16: =C16+D16 -> 0 | F16: =G16+H16+I16+J16 -> 0 | K16: 0 | L16: 0 | M16: 0 | N16: 0 | O16: 1
A17: Alte taxe pe servicii specifice | B17: 15.10.50 | E17: =C17+D17 -> 0 | F17: =G17+H17+I17+J17 -> 0 | K17: 0 | L17: 0 | M17: 0 | N17: 0 | O17: 1
A18: C. VENITURI NEFISCALE (cod 00.13+00.14) | B18: 00.12 | C18: =C19+C30 -> 6716 | D18: =D19+D30 -> 0 | E18: =E19+E30 -> 6716 | F18: =F19+F30 -> 6716 | G18: =G19+G30 -> 1641 | H18: =H19+H30 -> 1660 | I18: =I19+I30 -> 1875 | J18: =J19+J30 -> 1540 | ... N18: =N19+N30 -> 6300
A19: C1. VENITURI DIN PROPRIETATE (cod 30.10+31.10) | B19: 00.13 | C19: =C20+C28 -> 0 | D19: =D20+D28 -> 0 | E19: =E20+E28 -> 0 | F19: =F20+F28 -> 0 | G19: =G20+G28 -> 0 | H19: =H20+H28 -> 0 | I19: =I20+I28 -> 0 | J19: =J20+J28 -> 0 | ... N19: =N20+N28 -> 0 | P19: =Q19+R19+S19+T19 -> 0
A20: Venituri din proprietate (cod 30.10.05+30.10.08+30.10.09+30.10.50) | B20: 30.10 | C20: =C21+C23+C26+C27 -> 0 | D20: =D21+D23+D26+D27 -> 0 | E20: =E21+E23+E26+E27 -> 0 | F20: =F21+F23+F26+F27 -> 0 | G20: =G21+G23+G26+G27 -> 0 | H20: =H21+H23+H26+H27 -> 0 | I20: =I21+I23+I26+I27 -> 0 | J20: =J21+J23+J26+J27 -> 0 | ... N20: =N21+N23+N26+N27 -> 0 | P20: =Q20+R20+S20+T20 -> 0
A21: Venituri din concesiuni si inchirieri (cod 30.10.05.30) | B21: 30.10.05 | C21: =C22 -> 0 | D21: =D22 -> 0 | E21: =E22 -> 0 | F21: =F22 -> 0 | G21: =G22 -> 0 | H21: =H22 -> 0 | I21: =I22 -> 0 | J21: =J22 -> 0 | ... N21: =N22 -> 0 | P21: =Q21+R21+S21+T21 -> 0
A22: Alte venituri din concesiuni si inchiriere de catre institutiile publice | B22: 30.10.05.30 | C22: 0 | E22: =C22+D22 -> 0 | F22: =G22+H22+I22+J22 -> 0 | G22: 0 | H22: 0 | I22: 0 | J22: 0 | K22: 0 | L22: 0 | M22: 0 | N22: 0 | O22: 1 | P22: =Q22+R22+S22+T22 -> 0
A23: Venituri din dividende (cod 30.10.08.02+30.10.08.03) | B23: 30.10.08 | C23: =C24+C25 -> 0 | D23: =D24+D25 -> 0 | E23: =E24+E25 -> 0 | F23: =F24+F25 -> 0 | G23: =G24+G25 -> 0 | H23: =H24+H25 -> 0 | I23: =I24+I25 -> 0 | J23: =J24+J25 -> 0 | ... N23: =N24+N25 -> 0
A24: Venituri din dividende de la alti platitori | B24: 30.10.08.02 | E24: =C24+D24 -> 0 | F24: =G24+H24+I24+J24 -> 0 | K24: 0 | L24: 0 | M24: 0 | N24: 0 | O24: 1
A25: Dividende de la societatile si companiile nationale si societatile cu capital majoritar de stat | B25: 30.10.08.03 | E25: =C25+D25 -> 0 | F25: =G25+H25+I25+J25 -> 0 | K25: 0 | L25: 0 | M25: 0 | N25: 0 | O25: 1
A26: Venituri din utilizarea pasunilor comunale | B26: 30.10.09 | E26: =C26+D26 -> 0 | F26: =G26+H26+I26+J26 -> 0 | K26: 0 | L26: 0 | M26: 0 | N26: 0 | O26: 1
A27: Alte venituri din proprietate | B27: 30.10.50 | E27: =C27+D27 -> 0 | F27: =G27+H27+I27+J27 -> 0 | K27: 0 | L27: 0 | M27: 0 | N27: 0 | O27: 1
A28: Venituri din dobanzi (cod 31.10.03) | B28: 31.10 | C28: =C29 -> 0 | D28: =D29 -> 0 | E28: =E29 -> 0 | F28: =F29 -> 0 | G28: =G29 -> 0 | H28: =H29 -> 0 | I28: =I29 -> 0 | J28: =J29 -> 0 | ... N28: =N29 -> 0
A29: Alte venituri din dobanzi | B29: 31.10.03 | E29: =C29+D29 -> 0 | F29: =G29+H29+I29+J29 -> 0 | K29: 0 | L29: 0 | M29: 0 | N29: 0 | O29: 1
A30: C2. VANZARI DE BUNURI SI SERVICII (cod 33.10+34.10+35.10+36.10+37.10) | B30: 00.14 | C30: =C31+C46+C48+C50+C56 -> 6716 | D30: =D31+D46+D48+D50+D56 -> 0 | E30: =E31+E46+E48+E50+E56 -> 6716 | F30: =F31+F46+F48+F50+F56 -> 6716 | G30: =G31+G46+G48+G50+G56 -> 1641 | H30: =H31+H46+H48+H50+H56 -> 1660 | I30: =I31+I46+I48+I50+I56 -> 1875 | J30: =J31+J46+J48+J50+J56 -> 1540 | ... N30: =N31+N46+N48+N50+N56 -> 6300 | P30: =Q30+R30+S30+T30 -> 0
A31: Venituri din prestari servicii si alte activitati (cod 33.10.05+33.10.08+33.10.09+33.10.13+33.10.14+33.10.16+33.10.17+33.10.19+33.10.20+33.10.21+33.10.30 la 33.10.32+33.10.50) | B31: 33.10 | C31: =C32+C33+C34+C35+C36+C37+C38+C39+C40+C41+C42+C43+C44+C45 -> 6716 | D31: =D32+D33+D34+D35+D36+D37+D38+D39+D40+D41+D42+D43+D44+D45 -> 0 | E31: =E32+E33+E34+E35+E36+E37+E38+E39+E40+E41+E42+E43+E44+E45 -> 6716 | F31: =F32+F33+F34+F35+F36+F37+F38+F39+F40+F41+F42+F43+F44+F45 -> 6716 | G31: =G32+G33+G34+G35+G36+G37+G38+G39+G40+G41+G42+G43+G44+G45 -> 1641 | H31: =H32+H33+H34+H35+H36+H37+H38+H39+H40+H41+H42+H43+H44+H45 -> 1660 | I31: =I32+I33+I34+I35+I36+I37+I38+I39+I40+I41+I42+I43+I44+I45 -> 1875 | J31: =J32+J33+J34+J35+J36+J37+J38+J39+J40+J41+J42+J43+J44+J45 -> 1540 | ... X31: =X32+X33+X34+X35+X36+X37+X38+X39+X40+X41+X42+X43+X44+X45 -> #VALUE!
A32: Taxe si alte venituri in invatamant | B32: 33.10.05 | E32: =C32+D32 -> 0 | F32: =G32+H32+I32+J32 -> 0 | K32: 0 | L32: 0 | M32: 0 | N32: 0 | O32: 1 | Q32: 0
A33: Venituri din prestari de servicii | B33: 33.10.08 | C33: 209 | E33: =C33+D33 -> 209 | F33: =G33+H33+I33+J33 -> 209 | G33: 40 | H33: 60 | I33: 50 | J33: 59 | K33: 0 | L33: 0 | M33: 0 | N33: 0 | O33: 1 | P33: =Q33+R33+S33+T33 -> 0 | U33: =G33+H33 -> 100 | AC33: vp
A34: Taxe si alte venituri din protectia mediului | B34: 33.10.09 | E34: =C34+D34 -> 0 | F34: =G34+H34+I34+J34 -> 0 | K34: 0 | L34: 0 | M34: 0 | N34: 0 | O34: 1 | T34: 4920 | U34: -280
A35: Contributia de intretinere a persoanelor asistate | B35: 33.10.13 | E35: =C35+D35 -> 0 | F35: =G35+H35+I35+J35 -> 0 | K35: 0 | L35: 0 | M35: 0 | N35: 0 | O35: 1 | T35: 667 | U35: -33
A36: Contributia elevilor si studentilor pentru internate, camine si cantine | B36: 33.10.14 | E36: =C36+D36 -> 0 | F36: =G36+H36+I36+J36 -> 0 | K36: 0 | L36: 0 | M36: 0 | N36: 0 | O36: 1 | U36: -353
A37: Venituri din valorificarea produselor obtinute din activitatea proprie sau anexa | B37: 33.10.16 | E37: =C37+D37 -> 0 | F37: =G37+H37+I37+J37 -> 0 | K37: 0 | L37: 0 | M37: 0 | N37: 0 | O37: 1
A38: Venituri din organizarea de cursuri de calificare si conversie profesionala, specializare si perfectionare | B38: 33.10.17 | E38: =C38+D38 -> 0 | F38: =G38+H38+I38+J38 -> 0 | K38: 0 | L38: 0 | M38: 0 | N38: 0 | O38: 1
A39: Venituri din serbari si spectacole scolare, manifestari culturale, artistice si sportive | B39: 33.10.19 | E39: =C39+D39 -> 0 | F39: =G39+H39+I39+J39 -> 0 | K39: 0 | L39: 0 | M39: 0 | N39: 0 | O39: 1
A40: Venituri din cercetare | B40: 33.10.20 | E40: =C40+D40 -> 0 | F40: =G40+H40+I40+J40 -> 0 | K40: 0 | L40: 0 | M40: 0 | N40: 0 | O40: 1
A41: Venituri din contractele incheiate cu casele de asigurari sociale de sanatate | B41: 33.10.21 | C41: 5426 | E41: =C41+D41 -> 5426 | F41: =G41+H41+I41+J41 -> 5426 | G41: 1300 | H41: 1300 | I41: 1600 | J41: 1226 | K41: 0 | L41: 6200 | M41: 6250 | N41: 6300 | O41: 1 | P41: =Q41+R41+S41+T41 -> 0 | U41: =G41+H41 -> 2600
A42: Venituri din contractele incheiate cu DSP din sume alocate de la bugetul de stat | B42: 33.10.30 | C42: 1080 | E42: =C42+D42 -> 1080 | F42: =G42+H42+I42+J42 -> 1080 | G42: 300 | H42: 300 | I42: 225 | J42: 255 | K42: 0 | L42: 0 | M42: 0 | N42: 0 | O42: 1 | P42: =Q42+R42+S42+T42 -> 0 | U42: =G42+H42 -> 600 | AC42: rezid
...

Sheet TG. BUJOR 2025 iulie
A1: SPITALUL ORĂŞENESC TG. BUJOR | C1: Ordonator principal de credite, | L1: Director executiv,
A2: Nr. Înregistrare.2211/07.07. 2025 | C2: Fotea Costel | F2: Fotea Costel | H2: Director executiv, | L2: Stoica George
H3: Stoica George
A6: BUGETUL INSTITUŢIILOR PUBLCE ŞI ACTIVITĂŢILOR FINANŢATE INTEGRAL SAU PARŢIAL DIN VENITURI PROPRII, PE ANUL 2025
A7: HCJ nr.188/29.07.2025 | N7: -mii lei-
A8: DENUMIRE INDICATOR | B8: ARTICOL | C8: BUGET 2025 | L8: 2026 | M8: 2027 | N8: 2028 | AE8: rezidenti
C9: BUGET INITIAL | D9: INFLU ENTE | E9: BUGET FINAL | F9: TOTAL an | G9: TRIM. I | H9: TRIM. II | I9: TRIM. III | J9: TRIM. IV | K9: Din care credite bugetare destinate stingerii platilor restante | P9: total infl. | Q9: TRIM. I | R9: TRIM. II | S9: TRIM. III | T9: TRIM. IV | V9: TRIM. II | W9: TRIM. III | X9: TRIM. IV | AD9: TOTAL an | AE9: TRIM. I | AF9: TRIM. II | AG9: TRIM. III | AH9: TRIM. IV
A10: 1 | B10: 2 | C10: 3 | D10: 4 | E10: 5 | F10: 3 | G10: 4 | H10: 5 | I10: 5 | J10: 7 | K10: 11 | L10: 12 | M10: 13 | N10: 14 | Q10: 7 | R10: 8 | S10: 9 | T10: 10 | AD10: 3 | AE10: 4 | AF10: 5 | AG10: 5 | AH10: 7
A11: TOTAL VENITURI (cod 00.02+00.15+00.16+00.17+45.10+48.10) | B11: 00.01 | C11: =C12+C61+C65+C75+C85+C103+C165 -> 18217.08 | D11: =D12+D61+D65+D75+D85+D103+D165 -> 109.65 | E11: =E12+E61+E65+E75+E85+E103+E165 -> 18326.73 | F11: =F12+F61+F65+F75+F85+F103+F165 -> 18326.725 | G11: =G12+G61+G65+G75+G85+G103+G165 -> 4223 | H11: =H12+H61+H65+H75+H85+H103+H165 -> 5769.075 | I11: =I12+I61+I65+I75+I85+I103+I165 -> 4454.65 | J11: =J12+J61+J65+J75+J85+J103+J165 -> 3880 | K11: =K12+K61+K65+K75+K103+K165 -> 15 | L11: =L12+L61+L65+L75+L103+L165 -> 17532 | M11: =M12+M61+M65+M75+M103+M165 -> 17634 | N11: =N12+N61+N65+N75+N103+N165 -> 18236 | O11: =O12+O61+O65+O75+O103+O165 -> 0 | P11: =P12+P61+P65+P75+P103+P165 -> 0 | Q11: =Q12+Q61+Q65+Q75+Q103+Q165 -> 0 | R11: =R12+R61+R65+R75+R103+R165 -> 0 | ... X11: =X12+X61+X65+X75+X103+X165 -> 0
A12: I. VENITURI CURENTE (cod 00.03+00.12) | B12: 00.02 | C12: =C13+C18 -> 6716 | D12: =D13+D18 -> 0 | E12: =E13+E18 -> 6716 | F12: =F13+F18 -> 6716 | G12: =G13+G18 -> 1641 | H12: =H13+H18 -> 1660 | I12: =I13+I18 -> 1875 | J12: =J13+J18 -> 1540 | ... N12: =N13+N18 -> 6300 | P12: =Q12+R12+S12+T12 -> 0 | U12: =G12+H12 -> 3301
A13: A. VENITURI FISCALE (cod 00.10) | B13: 00.03 | C13: =C14 -> 0 | D13: =D14 -> 0 | E13: =E14 -> 0 | F13: =F14 -> 0 | G13: =G14 -> 0 | H13: =H14 -> 0 | I13: =I14 -> 0 | J13: =J14 -> 0 | ... N13: =N14 -> 0 | P13: =Q13+R13+S13+T13 -> 0
A14: A4. IMPOZITE SI TAXE PE BUNURI SI SERVICII (cod 15.10) | B14: 00.10 | C14: =C15 -> 0 | D14: =D15 -> 0 | E14: =E15 -> 0 | F14: =F15 -> 0 | G14: =G15 -> 0 | H14: =H15 -> 0 | I14: =I15 -> 0 | J14: =J15 -> 0 | ... N14: =N15 -> 0 | P14: =Q14+R14+S14+T14 -> 0
A15: Taxe pe servicii specifice (cod 15.10.01+15.10.50) | B15: 15.10 | C15: =C16+C17 -> 0 | D15: =D16+D17 -> 0 | E15: =E16+E17 -> 0 | F15: =F16+F17 -> 0 | G15: =G16+G17 -> 0 | H15: =H16+H17 -> 0 | I15: =I16+I17 -> 0 | J15: =J16+J17 -> 0 | ... N15: =N16+N17 -> 0
A16: Impozit pe spectacole | B16: 15.10.01 | E16: =C16+D16 -> 0 | F16: =G16+H16+I16+J16 -> 0 | K16: 0 | L16: 0 | M16: 0 | N16: 0 | O16: 1
A17: Alte taxe pe servicii specifice | B17: 15.10.50 | E17: =C17+D17 -> 0 | F17: =G17+H17+I17+J17 -> 0 | K17: 0 | L17: 0 | M17: 0 | N17: 0 | O17: 1
A18: C. VENITURI NEFISCALE (cod 00.13+00.14) | B18: 00.12 | C18: =C19+C30 -> 6716 | D18: =D19+D30 -> 0 | E18: =E19+E30 -> 6716 | F18: =F19+F30 -> 6716 | G18: =G19+G30 -> 1641 | H18: =H19+H30 -> 1660 | I18: =I19+I30 -> 1875 | J18: =J19+J30 -> 1540 | ... N18: =N19+N30 -> 6300
A19: C1. VENITURI DIN PROPRIETATE (cod 30.10+31.10) | B19: 00.13 | C19: =C20+C28 -> 0 | D19: =D20+D28 -> 0 | E19: =E20+E28 -> 0 | F19: =F20+F28 -> 0 | G19: =G20+G28 -> 0 | H19: =H20+H28 -> 0 | I19: =I20+I28 -> 0 | J19: =J20+J28 -> 0 | ... N19: =N20+N28 -> 0 | P19: =Q19+R19+S19+T19 -> 0
A20: Venituri din proprietate (cod 30.10.05+30.10.08+30.10.09+30.10.50) | B20: 30.10 | C20: =C21+C23+C26+C27 -> 0 | D20: =D21+D23+D26+D27 -> 0 | E20: =E21+E23+E26+E27 -> 0 | F20: =F21+F23+F26+F27 -> 0 | G20: =G21+G23+G26+G27 -> 0 | H20: =H21+H23+H26+H27 -> 0 | I20: =I21+I23+I26+I27 -> 0 | J20: =J21+J23+J26+J27 -> 0 | ... N20: =N21+N23+N26+N27 -> 0 | P20: =Q20+R20+S20+T20 -> 0
A21: Venituri din concesiuni si inchirieri (cod 30.10.05.30) | B21: 30.10.05 | C21: =C22 -> 0 | D21: =D22 -> 0 | E21: =E22 -> 0 | F21: =F22 -> 0 | G21: =G22 -> 0 | H21: =H22 -> 0 | I21: =I22 -> 0 | J21: =J22 -> 0 | ... N21: =N22 -> 0 | P21: =Q21+R21+S21+T21 -> 0
A22: Alte venituri din concesiuni si inchiriere de catre institutiile publice | B22: 30.10.05.30 | C22: 0 | E22: =C22+D22 -> 0 | F22: =G22+H22+I22+J22 -> 0 | G22: 0 | H22: 0 | I22: 0 | J22: 0 | K22: 0 | L22: 0 | M22: 0 | N22: 0 | O22: 1 | P22: =Q22+R22+S22+T22 -> 0
A23: Venituri din dividende (cod 30.10.08.02+30.10.08.03) | B23: 30.10.08 | C23: =C24+C25 -> 0 | D23: =D24+D25 -> 0 | E23: =E24+E25 -> 0 | F23: =F24+F25 -> 0 | G23: =G24+G25 -> 0 | H23: =H24+H25 -> 0 | I23: =I24+I25 -> 0 | J23: =J24+J25 -> 0 | ... N23: =N24+N25 -> 0
A24: Venituri din dividende de la alti platitori | B24: 30.10.08.02 | E24: =C24+D24 -> 0 | F24: =G24+H24+I24+J24 -> 0 | K24: 0 | L24: 0 | M24: 0 | N24: 0 | O24: 1
A25: Dividende de la societatile si companiile nationale si societatile cu capital majoritar de stat | B25: 30.10.08.03 | E25: =C25+D25 -> 0 | F25: =G25+H25+I25+J25 -> 0 | K25: 0 | L25: 0 | M25: 0 | N25: 0 | O25: 1
A26: Venituri din utilizarea pasunilor comunale | B26: 30.10.09 | E26: =C26+D26 -> 0 | F26: =G26+H26+I26+J26 -> 0 | K26: 0 | L26: 0 | M26: 0 | N26: 0 | O26: 1
A27: Alte venituri din proprietate | B27: 30.10.50 | E27: =C27+D27 -> 0 | F27: =G27+H27+I27+J27 -> 0 | K27: 0 | L27: 0 | M27: 0 | N27: 0 | O27: 1
A28: Venituri din dobanzi (cod 31.10.03) | B28: 31.10 | C28: =C29 -> 0 | D28: =D29 -> 0 | E28: =E29 -> 0 | F28: =F29 -> 0 | G28: =G29 -> 0 | H28: =H29 -> 0 | I28: =I29 -> 0 | J28: =J29 -> 0 | ... N28: =N29 -> 0
A29: Alte venituri din dobanzi | B29: 31.10.03 | E29: =C29+D29 -> 0 | F29: =G29+H29+I29+J29 -> 0 | K29: 0 | L29: 0 | M29: 0 | N29: 0 | O29: 1
A30: C2. VANZARI DE BUNURI SI SERVICII (cod 33.10+34.10+35.10+36.10+37.10) | B30: 00.14 | C30: =C31+C46+C48+C50+C56 -> 6716 | D30: =D31+D46+D48+D50+D56 -> 0 | E30: =E31+E46+E48+E50+E56 -> 6716 | F30: =F31+F46+F48+F50+F56 -> 6716 | G30: =G31+G46+G48+G50+G56 -> 1641 | H30: =H31+H46+H48+H50+H56 -> 1660 | I30: =I31+I46+I48+I50+I56 -> 1875 | J30: =J31+J46+J48+J50+J56 -> 1540 | ... N30: =N31+N46+N48+N50+N56 -> 6300 | P30: =Q30+R30+S30+T30 -> 0
A31: Venituri din prestari servicii si alte activitati (cod 33.10.05+33.10.08+33.10.09+33.10.13+33.10.14+33.10.16+33.10.17+33.10.19+33.10.20+33.10.21+33.10.30 la 33.10.32+33.10.50) | B31: 33.10 | C31: =C32+C33+C34+C35+C36+C37+C38+C39+C40+C41+C42+C43+C44+C45 -> 6716 | D31: =D32+D33+D34+D35+D36+D37+D38+D39+D40+D41+D42+D43+D44+D45 -> 0 | E31: =E32+E33+E34+E35+E36+E37+E38+E39+E40+E41+E42+E43+E44+E45 -> 6716 | F31: =F32+F33+F34+F35+F36+F37+F38+F39+F40+F41+F42+F43+F44+F45 -> 6716 | G31: =G32+G33+G34+G35+G36+G37+G38+G39+G40+G41+G42+G43+G44+G45 -> 1641 | H31: =H32+H33+H34+H35+H36+H37+H38+H39+H40+H41+H42+H43+H44+H45 -> 1660 | I31: =I32+I33+I34+I35+I36+I37+I38+I39+I40+I41+I42+I43+I44+I45 -> 1875 | J31: =J32+J33+J34+J35+J36+J37+J38+J39+J40+J41+J42+J43+J44+J45 -> 1540 | ... X31: =X32+X33+X34+X35+X36+X37+X38+X39+X40+X41+X42+X43+X44+X45 -> #VALUE!
A32: Taxe si alte venituri in invatamant | B32: 33.10.05 | E32: =C32+D32 -> 0 | F32: =G32+H32+I32+J32 -> 0 | K32: 0 | L32: 0 | M32: 0 | N32: 0 | O32: 1 | Q32: 0
A33: Venituri din prestari de servicii | B33: 33.10.08 | C33: 209 | E33: =C33+D33 -> 209 | F33: =G33+H33+I33+J33 -> 209 | G33: 40 | H33: 60 | I33: 50 | J33: 59 | K33: 0 | L33: 0 | M33: 0 | N33: 0 | O33: 1 | P33: =Q33+R33+S33+T33 -> 0 | U33: =G33+H33 -> 100 | AC33: vp
A34: Taxe si alte venituri din protectia mediului | B34: 33.10.09 | E34: =C34+D34 -> 0 | F34: =G34+H34+I34+J34 -> 0 | K34: 0 | L34: 0 | M34: 0 | N34: 0 | O34: 1 | T34: 4920 | U34: -280
A35: Contributia de intretinere a persoanelor asistate | B35: 33.10.13 | E35: =C35+D35 -> 0 | F35: =G35+H35+I35+J35 -> 0 | K35: 0 | L35: 0 | M35: 0 | N35: 0 | O35: 1 | T35: 667 | U35: -33
A36: Contributia elevilor si studentilor pentru internate, camine si cantine | B36: 33.10.14 | E36: =C36+D36 -> 0 | F36: =G36+H36+I36+J36 -> 0 | K36: 0 | L36: 0 | M36: 0 | N36: 0 | O36: 1 | U36: -353
A37: Venituri din valorificarea produselor obtinute din activitatea proprie sau anexa | B37: 33.10.16 | E37: =C37+D37 -> 0 | F37: =G37+H37+I37+J37 -> 0 | K37: 0 | L37: 0 | M37: 0 | N37: 0 | O37: 1
A38: Venituri din organizarea de cursuri de calificare si conversie profesionala, specializare si perfectionare | B38: 33.10.17 | E38: =C38+D38 -> 0 | F38: =G38+H38+I38+J38 -> 0 | K38: 0 | L38: 0 | M38: 0 | N38: 0 | O38: 1
A39: Venituri din serbari si spectacole scolare, manifestari culturale, artistice si sportive | B39: 33.10.19 | E39: =C39+D39 -> 0 | F39: =G39+H39+I39+J39 -> 0 | K39: 0 | L39: 0 | M39: 0 | N39: 0 | O39: 1
A40: Venituri din cercetare | B40: 33.10.20 | E40: =C40+D40 -> 0 | F40: =G40+H40+I40+J40 -> 0 | K40: 0 | L40: 0 | M40: 0 | N40: 0 | O40: 1
A41: Venituri din contractele incheiate cu casele de asigurari sociale de sanatate | B41: 33.10.21 | C41: 5426 | E41: =C41+D41 -> 5426 | F41: =G41+H41+I41+J41 -> 5426 | G41: 1300 | H41: 1300 | I41: 1600 | J41: 1226 | K41: 0 | L41: 6200 | M41: 6250 | N41: 6300 | O41: 1 | P41: =Q41+R41+S41+T41 -> 0 | U41: =G41+H41 -> 2600
A42: Venituri din contractele incheiate cu DSP din sume alocate de la bugetul de stat | B42: 33.10.30 | C42: 1080 | E42: =C42+D42 -> 1080 | F42: =G42+H42+I42+J42 -> 1080 | G42: 300 | H42: 300 | I42: 225 | J42: 255 | K42: 0 | L42: 0 | M42: 0 | N42: 0 | O42: 1 | P42: =Q42+R42+S42+T42 -> 0 | U42: =G42+H42 -> 600 | AC42: rezid
...

Sheet TG. BUJOR 2025 mai
A1: SPITALUL ORĂŞENESC TG. BUJOR | C1: Ordonator principal de credite, | L1: Director executiv,
A2: Nr. Înregistrare.1455/07.05. 2025 | C2: Fotea Costel | H2: Director executiv, | L2: Stoica George
H3: Stoica George
A6: BUGETUL INSTITUŢIILOR PUBLCE ŞI ACTIVITĂŢILOR FINANŢATE INTEGRAL SAU PARŢIAL DIN VENITURI PROPRII, PE ANUL 2025
A7: HCJ nr.142/29.05.2025 | N7: -mii lei-
A8: DENUMIRE INDICATOR | B8: ARTICOL | C8: BUGET 2025 | L8: 2026 | M8: 2027 | N8: 2028 | AE8: rezidenti
C9: BUGET INITIAL | D9: INFLU ENTE | E9: BUGET FINAL | F9: TOTAL an | G9: TRIM. I | H9: TRIM. II | I9: TRIM. III | J9: TRIM. IV | K9: Din care credite bugetare destinate stingerii platilor restante | P9: total infl. | Q9: TRIM. I | R9: TRIM. II | S9: TRIM. III | T9: TRIM. IV | V9: TRIM. II | W9: TRIM. III | X9: TRIM. IV | AD9: TOTAL an | AE9: TRIM. I | AF9: TRIM. II | AG9: TRIM. III | AH9: TRIM. IV
A10: 1 | B10: 2 | C10: 3 | D10: 4 | E10: 5 | F10: 3 | G10: 4 | H10: 5 | I10: 5 | J10: 7 | K10: 11 | L10: 12 | M10: 13 | N10: 14 | Q10: 7 | R10: 8 | S10: 9 | T10: 10 | AD10: 3 | AE10: 4 | AF10: 5 | AG10: 5 | AH10: 7
A11: TOTAL VENITURI (cod 00.02+00.15+00.16+00.17+45.10+48.10) | B11: 00.01 | C11: =C12+C61+C65+C75+C103+C165 -> 17477.08 | D11: =D12+D61+D65+D75+D103+D165 -> 740 | E11: =E12+E61+E65+E75+E103+E165 -> 18217.08 | F11: =F12+F61+F65+F75+F103+F165 -> 18217.075 | G11: =G12+G61+G65+G75+G103+G165 -> 4223 | H11: =H12+H61+H65+H75+H103+H165 -> 5769.075 | I11: =I12+I61+I65+I75+I103+I165 -> 4345 | J11: =J12+J61+J65+J75+J103+J165 -> 3880 | ... X11: =X12+X61+X65+X75+X103+X165 -> 0
A12: I. VENITURI CURENTE (cod 00.03+00.12) | B12: 00.02 | C12: =C13+C18 -> 6116 | D12: =D13+D18 -> 600 | E12: =E13+E18 -> 6716 | F12: =F13+F18 -> 6716 | G12: =G13+G18 -> 1641 | H12: =H13+H18 -> 1660 | I12: =I13+I18 -> 1875 | J12: =J13+J18 -> 1540 | ... N12: =N13+N18 -> 6300 | P12: =Q12+R12+S12+T12 -> 0 | U12: =G12+H12 -> 3301
A13: A. VENITURI FISCALE (cod 00.10) | B13: 00.03 | C13: =C14 -> 0 | D13: =D14 -> 0 | E13: =E14 -> 0 | F13: =F14 -> 0 | G13: =G14 -> 0 | H13: =H14 -> 0 | I13: =I14 -> 0 | J13: =J14 -> 0 | ... N13: =N14 -> 0 | P13: =Q13+R13+S13+T13 -> 0
A14: A4. IMPOZITE SI TAXE PE BUNURI SI SERVICII (cod 15.10) | B14: 00.10 | C14: =C15 -> 0 | D14: =D15 -> 0 | E14: =E15 -> 0 | F14: =F15 -> 0 | G14: =G15 -> 0 | H14: =H15 -> 0 | I14: =I15 -> 0 | J14: =J15 -> 0 | ... N14: =N15 -> 0 | P14: =Q14+R14+S14+T14 -> 0
A15: Taxe pe servicii specifice (cod 15.10.01+15.10.50) | B15: 15.10 | C15: =C16+C17 -> 0 | D15: =D16+D17 -> 0 | E15: =E16+E17 -> 0 | F15: =F16+F17 -> 0 | G15: =G16+G17 -> 0 | H15: =H16+H17 -> 0 | I15: =I16+I17 -> 0 | J15: =J16+J17 -> 0 | ... N15: =N16+N17 -> 0
A16: Impozit pe spectacole | B16: 15.10.01 | E16: =C16+D16 -> 0 | F16: =G16+H16+I16+J16 -> 0 | K16: 0 | L16: 0 | M16: 0 | N16: 0 | O16: 1
A17: Alte taxe pe servicii specifice | B17: 15.10.50 | E17: =C17+D17 -> 0 | F17: =G17+H17+I17+J17 -> 0 | K17: 0 | L17: 0 | M17: 0 | N17: 0 | O17: 1
A18: C. VENITURI NEFISCALE (cod 00.13+00.14) | B18: 00.12 | C18: =C19+C30 -> 6116 | D18: =D19+D30 -> 600 | E18: =E19+E30 -> 6716 | F18: =F19+F30 -> 6716 | G18: =G19+G30 -> 1641 | H18: =H19+H30 -> 1660 | I18: =I19+I30 -> 1875 | J18: =J19+J30 -> 1540 | ... N18: =N19+N30 -> 6300
A19: C1. VENITURI DIN PROPRIETATE (cod 30.10+31.10) | B19: 00.13 | C19: =C20+C28 -> 0 | D19: =D20+D28 -> 0 | E19: =E20+E28 -> 0 | F19: =F20+F28 -> 0 | G19: =G20+G28 -> 0 | H19: =H20+H28 -> 0 | I19: =I20+I28 -> 0 | J19: =J20+J28 -> 0 | ... N19: =N20+N28 -> 0 | P19: =Q19+R19+S19+T19 -> 0
A20: Venituri din proprietate (cod 30.10.05+30.10.08+30.10.09+30.10.50) | B20: 30.10 | C20: =C21+C23+C26+C27 -> 0 | D20: =D21+D23+D26+D27 -> 0 | E20: =E21+E23+E26+E27 -> 0 | F20: =F21+F23+F26+F27 -> 0 | G20: =G21+G23+G26+G27 -> 0 | H20: =H21+H23+H26+H27 -> 0 | I20: =I21+I23+I26+I27 -> 0 | J20: =J21+J23+J26+J27 -> 0 | ... N20: =N21+N23+N26+N27 -> 0 | P20: =Q20+R20+S20+T20 -> 0
A21: Venituri din concesiuni si inchirieri (cod 30.10.05.30) | B21: 30.10.05 | C21: =C22 -> 0 | D21: =D22 -> 0 | E21: =E22 -> 0 | F21: =F22 -> 0 | G21: =G22 -> 0 | H21: =H22 -> 0 | I21: =I22 -> 0 | J21: =J22 -> 0 | ... N21: =N22 -> 0 | P21: =Q21+R21+S21+T21 -> 0
A22: Alte venituri din concesiuni si inchiriere de catre institutiile publice | B22: 30.10.05.30 | C22: 0 | E22: =C22+D22 -> 0 | F22: =G22+H22+I22+J22 -> 0 | G22: 0 | H22: 0 | I22: 0 | J22: 0 | K22: 0 | L22: 0 | M22: 0 | N22: 0 | O22: 1 | P22: =Q22+R22+S22+T22 -> 0
A23: Venituri din dividende (cod 30.10.08.02+30.10.08.03) | B23: 30.10.08 | C23: =C24+C25 -> 0 | D23: =D24+D25 -> 0 | E23: =E24+E25 -> 0 | F23: =F24+F25 -> 0 | G23: =G24+G25 -> 0 | H23: =H24+H25 -> 0 | I23: =I24+I25 -> 0 | J23: =J24+J25 -> 0 | ... N23: =N24+N25 -> 0
A24: Venituri din dividende de la alti platitori | B24: 30.10.08.02 | E24: =C24+D24 -> 0 | F24: =G24+H24+I24+J24 -> 0 | K24: 0 | L24: 0 | M24: 0 | N24: 0 | O24: 1
A25: Dividende de la societatile si companiile nationale si societatile cu capital majoritar de stat | B25: 30.10.08.03 | E25: =C25+D25 -> 0 | F25: =G25+H25+I25+J25 -> 0 | K25: 0 | L25: 0 | M25: 0 | N25: 0 | O25: 1
A26: Venituri din utilizarea pasunilor comunale | B26: 30.10.09 | E26: =C26+D26 -> 0 | F26: =G26+H26+I26+J26 -> 0 | K26: 0 | L26: 0 | M26: 0 | N26: 0 | O26: 1
A27: Alte venituri din proprietate | B27: 30.10.50 | E27: =C27+D27 -> 0 | F27: =G27+H27+I27+J27 -> 0 | K27: 0 | L27: 0 | M27: 0 | N27: 0 | O27: 1
A28: Venituri din dobanzi (cod 31.10.03) | B28: 31.10 | C28: =C29 -> 0 | D28: =D29 -> 0 | E28: =E29 -> 0 | F28: =F29 -> 0 | G28: =G29 -> 0 | H28: =H29 -> 0 | I28: =I29 -> 0 | J28: =J29 -> 0 | ... N28: =N29 -> 0
A29: Alte venituri din dobanzi | B29: 31.10.03 | E29: =C29+D29 -> 0 | F29: =G29+H29+I29+J29 -> 0 | K29: 0 | L29: 0 | M29: 0 | N29: 0 | O29: 1
A30: C2. VANZARI DE BUNURI SI SERVICII (cod 33.10+34.10+35.10+36.10+37.10) | B30: 00.14 | C30: =C31+C46+C48+C50+C56 -> 6116 | D30: =D31+D46+D48+D50+D56 -> 600 | E30: =E31+E46+E48+E50+E56 -> 6716 | F30: =F31+F46+F48+F50+F56 -> 6716 | G30: =G31+G46+G48+G50+G56 -> 1641 | H30: =H31+H46+H48+H50+H56 -> 1660 | I30: =I31+I46+I48+I50+I56 -> 1875 | J30: =J31+J46+J48+J50+J56 -> 1540 | ... N30: =N31+N46+N48+N50+N56 -> 6300 | P30: =Q30+R30+S30+T30 -> 0
A31: Venituri din prestari servicii si alte activitati (cod 33.10.05+33.10.08+33.10.09+33.10.13+33.10.14+33.10.16+33.10.17+33.10.19+33.10.20+33.10.21+33.10.30 la 33.10.32+33.10.50) | B31: 33.10 | C31: =C32+C33+C34+C35+C36+C37+C38+C39+C40+C41+C42+C43+C44+C45 -> 6116 | D31: =D32+D33+D34+D35+D36+D37+D38+D39+D40+D41+D42+D43+D44+D45 -> 600 | E31: =E32+E33+E34+E35+E36+E37+E38+E39+E40+E41+E42+E43+E44+E45 -> 6716 | F31: =F32+F33+F34+F35+F36+F37+F38+F39+F40+F41+F42+F43+F44+F45 -> 6716 | G31: =G32+G33+G34+G35+G36+G37+G38+G39+G40+G41+G42+G43+G44+G45 -> 1641 | H31: =H32+H33+H34+H35+H36+H37+H38+H39+H40+H41+H42+H43+H44+H45 -> 1660 | I31: =I32+I33+I34+I35+I36+I37+I38+I39+I40+I41+I42+I43+I44+I45 -> 1875 | J31: =J32+J33+J34+J35+J36+J37+J38+J39+J40+J41+J42+J43+J44+J45 -> 1540 | ... X31: =X32+X33+X34+X35+X36+X37+X38+X39+X40+X41+X42+X43+X44+X45 -> #VALUE!
A32: Taxe si alte venituri in invatamant | B32: 33.10.05 | E32: =C32+D32 -> 0 | F32: =G32+H32+I32+J32 -> 0 | K32: 0 | L32: 0 | M32: 0 | N32: 0 | O32: 1 | Q32: 0
A33: Venituri din prestari de servicii | B33: 33.10.08 | C33: 164 | D33: 45 | E33: =C33+D33 -> 209 | F33: =G33+H33+I33+J33 -> 209 | G33: 40 | H33: 60 | I33: 50 | J33: 59 | K33: 0 | L33: 0 | M33: 0 | N33: 0 | O33: 1 | P33: =Q33+R33+S33+T33 -> 0 | U33: =G33+H33 -> 100 | AC33: vp | AD33: =AE33+AF33+AG33+AH33 -> 209 | AE33: 40 | AF33: 60 | AG33: 50 | AH33: 59
A34: Taxe si alte venituri din protectia mediului | B34: 33.10.09 | E34: =C34+D34 -> 0 | F34: =G34+H34+I34+J34 -> 0 | K34: 0 | L34: 0 | M34: 0 | N34: 0 | O34: 1 | T34: 4920 | U34: -280
A35: Contributia de intretinere a persoanelor asistate | B35: 33.10.13 | E35: =C35+D35 -> 0 | F35: =G35+H35+I35+J35 -> 0 | K35: 0 | L35: 0 | M35: 0 | N35: 0 | O35: 1 | T35: 667 | U35: -33
A36: Contributia elevilor si studentilor pentru internate, camine si cantine | B36: 33.10.14 | E36: =C36+D36 -> 0 | F36: =G36+H36+I36+J36 -> 0 | K36: 0 | L36: 0 | M36: 0 | N36: 0 | O36: 1 | U36: -353
A37: Venituri din valorificarea produselor obtinute din activitatea proprie sau anexa | B37: 33.10.16 | E37: =C37+D37 -> 0 | F37: =G37+H37+I37+J37 -> 0 | K37: 0 | L37: 0 | M37: 0 | N37: 0 | O37: 1
A38: Venituri din organizarea de cursuri de calificare si conversie profesionala, specializare si perfectionare | B38: 33.10.17 | E38: =C38+D38 -> 0 | F38: =G38+H38+I38+J38 -> 0 | K38: 0 | L38: 0 | M38: 0 | N38: 0 | O38: 1
A39: Venituri din serbari si spectacole scolare, manifestari culturale, artistice si sportive | B39: 33.10.19 | E39: =C39+D39 -> 0 | F39: =G39+H39+I39+J39 -> 0 | K39: 0 | L39: 0 | M39: 0 | N39: 0 | O39: 1
A40: Venituri din cercetare | B40: 33.10.20 | E40: =C40+D40 -> 0 | F40: =G40+H40+I40+J40 -> 0 | K40: 0 | L40: 0 | M40: 0 | N40: 0 | O40: 1
A41: Venituri din contractele incheiate cu casele de asigurari sociale de sanatate | B41: 33.10.21 | C41: 5126 | D41: 300 | E41: =C41+D41 -> 5426 | F41: =G41+H41+I41+J41 -> 5426 | G41: 1300 | H41: 1300 | I41: 1600 | J41: 1226 | K41: 0 | L41: 6200 | M41: 6250 | N41: 6300 | O41: 1 | P41: =Q41+R41+S41+T41 -> 0 | U41: =G41+H41 -> 2600
A42: Venituri din contractele incheiate cu DSP din sume alocate de la bugetul de stat | B42: 33.10.30 | C42: 825 | D42: 255 | E42: =C42+D42 -> 1080 | F42: =G42+H42+I42+J42 -> 1080 | G42: 300 | H42: 300 | I42: 225 | J42: 255 | K42: 0 | L42: 0 | M42: 0 | N42: 0 | O42: 1 | P42: =Q42+R42+S42+T42 -> 0 | U42: =G42+H42 -> 600 | AC42: rezid | AD42: =AE42+AF42+AG42+AH42 -> 1080 | AE42: 300 | AF42: 300 | AG42: 225 | AH42: 255
...

Sheet TG. BUJOR 2025 (2)
A1: SPITALUL ORĂŞENESC TG. BUJOR | C1: Ordonator principal de credite, | L1: Director executiv,
A2: Nr. Înregistrare. 425 din 05.02.2025 | C2: Fotea Costel | F2: Fotea Costel | L2: Stoica George
A6: BUGETUL INSTITUŢIILOR PUBLCE ŞI ACTIVITĂŢILOR FINANŢATE INTEGRAL SAU PARŢIAL DIN VENITURI PROPRII, PE ANUL 2025
A7: HCJ nr.71/25.03.2025 | N7: -mii lei-
A8: DENUMIRE INDICATOR | B8: ARTICOL | C8: BUGET 2025 | L8: 2026 | M8: 2027 | N8: 2028 | AE8: rezidenti
C9: BUGET INITIAL | D9: INFLU ENTE | E9: BUGET FINAL | F9: TOTAL an | G9: TRIM. I | H9: TRIM. II | I9: TRIM. III | J9: TRIM. IV | K9: Din care credite bugetare destinate stingerii platilor restante | P9: total infl. | Q9: TRIM. I | R9: TRIM. II | S9: TRIM. III | T9: TRIM. IV | V9: TRIM. II | W9: TRIM. III | X9: TRIM. IV | AD9: TOTAL an | AE9: TRIM. I | AF9: TRIM. II | AG9: TRIM. III | AH9: TRIM. IV
A10: 1 | B10: 2 | C10: 3 | D10: 4 | E10: 5 | F10: 3 | G10: 4 | H10: 5 | I10: 5 | J10: 7 | K10: 11 | L10: 12 | M10: 13 | N10: 14 | Q10: 7 | R10: 8 | S10: 9 | T10: 10 | AD10: 3 | AE10: 4 | AF10: 5 | AG10: 5 | AH10: 7
A11: TOTAL VENITURI (cod 00.02+00.15+00.16+00.17+45.10+48.10) | B11: 00.01 | C11: =C12+C61+C65+C75+C103+C165 -> 17772.08 | D11: =D12+D61+D65+D75+D103+D165 -> 0 | E11: =E12+E61+E65+E75+E103+E165 -> 17772.08 | F11: =F12+F61+F65+F75+F103+F165 -> 17477.075 | G11: =G12+G61+G65+G75+G103+G165 -> 4223 | H11: =H12+H61+H65+H75+H103+H165 -> 5661.075 | I11: =I12+I61+I65+I75+I103+I165 -> 4037 | J11: =J12+J61+J65+J75+J103+J165 -> 3556 | ... X11: =X12+X61+X65+X75+X103+X165 -> 0
A12: I. VENITURI CURENTE (cod 00.03+00.12) | B12: 00.02 | C12: =C13+C18 -> 6151 | D12: =D13+D18 -> 0 | E12: =E13+E18 -> 6151 | F12: =F13+F18 -> 6116 | G12: =G13+G18 -> 1641 | H12: =H13+H18 -> 1642 | I12: =I13+I18 -> 1567 | J12: =J13+J18 -> 1266 | ... N12: =N13+N18 -> 6300 | P12: =Q12+R12+S12+T12 -> 0 | U12: =G12+H12 -> 3283
A13: A. VENITURI FISCALE (cod 00.10) | B13: 00.03 | C13: =C14 -> 0 | D13: =D14 -> 0 | E13: =E14 -> 0 | F13: =F14 -> 0 | G13: =G14 -> 0 | H13: =H14 -> 0 | I13: =I14 -> 0 | J13: =J14 -> 0 | ... N13: =N14 -> 0 | P13: =Q13+R13+S13+T13 -> 0
A14: A4. IMPOZITE SI TAXE PE BUNURI SI SERVICII (cod 15.10) | B14: 00.10 | C14: =C15 -> 0 | D14: =D15 -> 0 | E14: =E15 -> 0 | F14: =F15 -> 0 | G14: =G15 -> 0 | H14: =H15 -> 0 | I14: =I15 -> 0 | J14: =J15 -> 0 | ... N14: =N15 -> 0 | P14: =Q14+R14+S14+T14 -> 0
A15: Taxe pe servicii specifice (cod 15.10.01+15.10.50) | B15: 15.10 | C15: =C16+C17 -> 0 | D15: =D16+D17 -> 0 | E15: =E16+E17 -> 0 | F15: =F16+F17 -> 0 | G15: =G16+G17 -> 0 | H15: =H16+H17 -> 0 | I15: =I16+I17 -> 0 | J15: =J16+J17 -> 0 | ... N15: =N16+N17 -> 0
A16: Impozit pe spectacole | B16: 15.10.01 | E16: =C16+D16 -> 0 | F16: =G16+H16+I16+J16 -> 0 | K16: 0 | L16: 0 | M16: 0 | N16: 0 | O16: 1
A17: Alte taxe pe servicii specifice | B17: 15.10.50 | E17: =C17+D17 -> 0 | F17: =G17+H17+I17+J17 -> 0 | K17: 0 | L17: 0 | M17: 0 | N17: 0 | O17: 1
A18: C. VENITURI NEFISCALE (cod 00.13+00.14) | B18: 00.12 | C18: =C19+C30 -> 6151 | D18: =D19+D30 -> 0 | E18: =E19+E30 -> 6151 | F18: =F19+F30 -> 6116 | G18: =G19+G30 -> 1641 | H18: =H19+H30 -> 1642 | I18: =I19+I30 -> 1567 | J18: =J19+J30 -> 1266 | ... N18: =N19+N30 -> 6300
A19: C1. VENITURI DIN PROPRIETATE (cod 30.10+31.10) | B19: 00.13 | C19: =C20+C28 -> 0 | D19: =D20+D28 -> 0 | E19: =E20+E28 -> 0 | F19: =F20+F28 -> 0 | G19: =G20+G28 -> 0 | H19: =H20+H28 -> 0 | I19: =I20+I28 -> 0 | J19: =J20+J28 -> 0 | ... N19: =N20+N28 -> 0 | P19: =Q19+R19+S19+T19 -> 0
A20: Venituri din proprietate (cod 30.10.05+30.10.08+30.10.09+30.10.50) | B20: 30.10 | C20: =C21+C23+C26+C27 -> 0 | D20: =D21+D23+D26+D27 -> 0 | E20: =E21+E23+E26+E27 -> 0 | F20: =F21+F23+F26+F27 -> 0 | G20: =G21+G23+G26+G27 -> 0 | H20: =H21+H23+H26+H27 -> 0 | I20: =I21+I23+I26+I27 -> 0 | J20: =J21+J23+J26+J27 -> 0 | ... N20: =N21+N23+N26+N27 -> 0 | P20: =Q20+R20+S20+T20 -> 0
A21: Venituri din concesiuni si inchirieri (cod 30.10.05.30) | B21: 30.10.05 | C21: =C22 -> 0 | D21: =D22 -> 0 | E21: =E22 -> 0 | F21: =F22 -> 0 | G21: =G22 -> 0 | H21: =H22 -> 0 | I21: =I22 -> 0 | J21: =J22 -> 0 | ... N21: =N22 -> 0 | P21: =Q21+R21+S21+T21 -> 0
A22: Alte venituri din concesiuni si inchiriere de catre institutiile publice | B22: 30.10.05.30 | C22: 0 | E22: =C22+D22 -> 0 | F22: =G22+H22+I22+J22 -> 0 | G22: 0 | H22: 0 | I22: 0 | J22: 0 | K22: 0 | L22: 0 | M22: 0 | N22: 0 | O22: 1 | P22: =Q22+R22+S22+T22 -> 0
A23: Venituri din dividende (cod 30.10.08.02+30.10.08.03) | B23: 30.10.08 | C23: =C24+C25 -> 0 | D23: =D24+D25 -> 0 | E23: =E24+E25 -> 0 | F23: =F24+F25 -> 0 | G23: =G24+G25 -> 0 | H23: =H24+H25 -> 0 | I23: =I24+I25 -> 0 | J23: =J24+J25 -> 0 | ... N23: =N24+N25 -> 0
A24: Venituri din dividende de la alti platitori | B24: 30.10.08.02 | E24: =C24+D24 -> 0 | F24: =G24+H24+I24+J24 -> 0 | K24: 0 | L24: 0 | M24: 0 | N24: 0 | O24: 1
A25: Dividende de la societatile si companiile nationale si societatile cu capital majoritar de stat | B25: 30.10.08.03 | E25: =C25+D25 -> 0 | F25: =G25+H25+I25+J25 -> 0 | K25: 0 | L25: 0 | M25: 0 | N25: 0 | O25: 1
A26: Venituri din utilizarea pasunilor comunale | B26: 30.10.09 | E26: =C26+D26 -> 0 | F26: =G26+H26+I26+J26 -> 0 | K26: 0 | L26: 0 | M26: 0 | N26: 0 | O26: 1
A27: Alte venituri din proprietate | B27: 30.10.50 | E27: =C27+D27 -> 0 | F27: =G27+H27+I27+J27 -> 0 | K27: 0 | L27: 0 | M27: 0 | N27: 0 | O27: 1
A28: Venituri din dobanzi (cod 31.10.03) | B28: 31.10 | C28: =C29 -> 0 | D28: =D29 -> 0 | E28: =E29 -> 0 | F28: =F29 -> 0 | G28: =G29 -> 0 | H28: =H29 -> 0 | I28: =I29 -> 0 | J28: =J29 -> 0 | ... N28: =N29 -> 0
A29: Alte venituri din dobanzi | B29: 31.10.03 | E29: =C29+D29 -> 0 | F29: =G29+H29+I29+J29 -> 0 | K29: 0 | L29: 0 | M29: 0 | N29: 0 | O29: 1
A30: C2. VANZARI DE BUNURI SI SERVICII (cod 33.10+34.10+35.10+36.10+37.10) | B30: 00.14 | C30: =C31+C46+C48+C50+C56 -> 6151 | D30: =D31+D46+D48+D50+D56 -> 0 | E30: =E31+E46+E48+E50+E56 -> 6151 | F30: =F31+F46+F48+F50+F56 -> 6116 | G30: =G31+G46+G48+G50+G56 -> 1641 | H30: =H31+H46+H48+H50+H56 -> 1642 | I30: =I31+I46+I48+I50+I56 -> 1567 | J30: =J31+J46+J48+J50+J56 -> 1266 | ... N30: =N31+N46+N48+N50+N56 -> 6300 | P30: =Q30+R30+S30+T30 -> 0
A31: Venituri din prestari servicii si alte activitati (cod 33.10.05+33.10.08+33.10.09+33.10.13+33.10.14+33.10.16+33.10.17+33.10.19+33.10.20+33.10.21+33.10.30 la 33.10.32+33.10.50) | B31: 33.10 | C31: =C32+C33+C34+C35+C36+C37+C38+C39+C40+C41+C42+C43+C44+C45 -> 6151 | D31: =D32+D33+D34+D35+D36+D37+D38+D39+D40+D41+D42+D43+D44+D45 -> 0 | E31: =E32+E33+E34+E35+E36+E37+E38+E39+E40+E41+E42+E43+E44+E45 -> 6151 | F31: =F32+F33+F34+F35+F36+F37+F38+F39+F40+F41+F42+F43+F44+F45 -> 6116 | G31: =G32+G33+G34+G35+G36+G37+G38+G39+G40+G41+G42+G43+G44+G45 -> 1641 | H31: =H32+H33+H34+H35+H36+H37+H38+H39+H40+H41+H42+H43+H44+H45 -> 1642 | I31: =I32+I33+I34+I35+I36+I37+I38+I39+I40+I41+I42+I43+I44+I45 -> 1567 | J31: =J32+J33+J34+J35+J36+J37+J38+J39+J40+J41+J42+J43+J44+J45 -> 1266 | ... X31: =X32+X33+X34+X35+X36+X37+X38+X39+X40+X41+X42+X43+X44+X45 -> #VALUE!
A32: Taxe si alte venituri in invatamant | B32: 33.10.05 | E32: =C32+D32 -> 0 | F32: =G32+H32+I32+J32 -> 0 | K32: 0 | L32: 0 | M32: 0 | N32: 0 | O32: 1 | Q32: 0
A33: Venituri din prestari de servicii | B33: 33.10.08 | C33: 147 | E33: =C33+D33 -> 147 | F33: =G33+H33+I33+J33 -> 164 | G33: 40 | H33: 42 | I33: 42 | J33: 40 | K33: 0 | L33: 0 | M33: 0 | N33: 0 | O33: 1 | P33: =Q33+R33+S33+T33 -> 0 | U33: =G33+H33 -> 82
A34: Taxe si alte venituri din protectia mediului | B34: 33.10.09 | E34: =C34+D34 -> 0 | F34: =G34+H34+I34+J34 -> 0 | K34: 0 | L34: 0 | M34: 0 | N34: 0 | O34: 1 | T34: 4920 | U34: -280
A35: Contributia de intretinere a persoanelor asistate | B35: 33.10.13 | E35: =C35+D35 -> 0 | F35: =G35+H35+I35+J35 -> 0 | K35: 0 | L35: 0 | M35: 0 | N35: 0 | O35: 1 | T35: 667 | U35: -33
A36: Contributia elevilor si studentilor pentru internate, camine si cantine | B36: 33.10.14 | E36: =C36+D36 -> 0 | F36: =G36+H36+I36+J36 -> 0 | K36: 0 | L36: 0 | M36: 0 | N36: 0 | O36: 1 | U36: -353
A37: Venituri din valorificarea produselor obtinute din activitatea proprie sau anexa | B37: 33.10.16 | E37: =C37+D37 -> 0 | F37: =G37+H37+I37+J37 -> 0 | K37: 0 | L37: 0 | M37: 0 | N37: 0 | O37: 1
A38: Venituri din organizarea de cursuri de calificare si conversie profesionala, specializare si perfectionare | B38: 33.10.17 | E38: =C38+D38 -> 0 | F38: =G38+H38+I38+J38 -> 0 | K38: 0 | L38: 0 | M38: 0 | N38: 0 | O38: 1
A39: Venituri din serbari si spectacole scolare, manifestari culturale, artistice si sportive | B39: 33.10.19 | E39: =C39+D39 -> 0 | F39: =G39+H39+I39+J39 -> 0 | K39: 0 | L39: 0 | M39: 0 | N39: 0 | O39: 1
A40: Venituri din cercetare | B40: 33.10.20 | E40: =C40+D40 -> 0 | F40: =G40+H40+I40+J40 -> 0 | K40: 0 | L40: 0 | M40: 0 | N40: 0 | O40: 1
A41: Venituri din contractele incheiate cu casele de asigurari sociale de sanatate | B41: 33.10.21 | C41: 4964 | E41: =C41+D41 -> 4964 | F41: =G41+H41+I41+J41 -> 5126 | G41: 1300 | H41: 1300 | I41: 1300 | J41: 1226 | K41: 0 | L41: 6200 | M41: 6250 | N41: 6300 | O41: 1 | P41: =Q41+R41+S41+T41 -> 0 | U41: =G41+H41 -> 2600
A42: Venituri din contractele incheiate cu DSP din sume alocate de la bugetul de stat | B42: 33.10.30 | C42: 1040 | E42: =C42+D42 -> 1040 | F42: =G42+H42+I42+J42 -> 825 | G42: 300 | H42: 300 | I42: 225 | J42: 0 | K42: 0 | L42: 0 | M42: 0 | N42: 0 | O42: 1 | P42: =Q42+R42+S42+T42 -> 0 | U42: =G42+H42 -> 600 | AD42: =AE42+AF42+AG42+AH42 -> 825 | AE42: 300 | AF42: 300 | AG42: 225 | AH42: 0
A43: Venituri din contractele incheiate cu directiile de sanatate publica din sume alocate din veniturile proprii ale Ministerului Sanatatii | B43: 33.10.31 | E43: =C43+D43 -> 0 | F43: =G43+H43+I43+J43 -> 0 | K43: 0 | L43: 0 | M43: 0 | N43: 0 | O43: 1
...

Sheet TG. BUJOR 2025
A1: SPITALUL ORĂŞENESC TG. BUJOR | C1: Ordonator principal de credite, | L1: Director executiv,
A2: Nr. Înregistrare.415 din 04.01.2025 | C2: Fotea Costel | F2: Fotea Costel | L2: Stoica George
A7: BUGETUL INSTITUŢIILOR PUBLCE ŞI ACTIVITĂŢILOR FINANŢATE INTEGRAL SAU PARŢIAL DIN VENITURI PROPRII, PE ANUL 2025
A8: HCJ nr…../……....2025 | N8: -mii lei-
A9: DENUMIRE INDICATOR | B9: ARTICOL | C9: BUGET 2025 | L9: 2026 | M9: 2027 | N9: 2028
C10: BUGET INITIAL | D10: INFLU ENTE | E10: BUGET FINAL | F10: TOTAL an | G10: TRIM. I | H10: TRIM. II | I10: TRIM. III | J10: TRIM. IV | K10: Din care credite bugetare destinate stingerii platilor restante | P10: total infl. | Q10: TRIM. I | R10: TRIM. II | S10: TRIM. III | T10: TRIM. IV | V10: TRIM. II | W10: TRIM. III | X10: TRIM. IV
A11: 1 | B11: 2 | C11: 3 | D11: 4 | E11: 5 | F11: 3 | G11: 4 | H11: 5 | I11: 5 | J11: 7 | K11: 11 | L11: 12 | M11: 13 | N11: 14 | Q11: 7 | R11: 8 | S11: 9 | T11: 10
A12: TOTAL VENITURI (cod 00.02+00.15+00.16+00.17+45.10+48.10) | B12: 00.01 | C12: =C13+C62+C66+C76+C104+C166 -> 17772.08 | D12: =D13+D62+D66+D76+D104+D166 -> 0 | E12: =E13+E62+E66+E76+E104+E166 -> 17772.08 | F12: =F13+F62+F66+F76+F104+F166 -> 17477.075 | G12: =G13+G62+G66+G76+G104+G166 -> 4223 | H12: =H13+H62+H66+H76+H104+H166 -> 5661.075 | I12: =I13+I62+I66+I76+I104+I166 -> 4037 | J12: =J13+J62+J66+J76+J104+J166 -> 3556 | ... X12: =X13+X62+X66+X76+X104+X166 -> 0
A13: I. VENITURI CURENTE (cod 00.03+00.12) | B13: 00.02 | C13: =C14+C19 -> 6151 | D13: =D14+D19 -> 0 | E13: =E14+E19 -> 6151 | F13: =F14+F19 -> 6116 | G13: =G14+G19 -> 1641 | H13: =H14+H19 -> 1642 | I13: =I14+I19 -> 1567 | J13: =J14+J19 -> 1266 | ... N13: =N14+N19 -> 6300 | P13: =Q13+R13+S13+T13 -> 0 | U13: =G13+H13 -> 3283
A14: A. VENITURI FISCALE (cod 00.10) | B14: 00.03 | C14: =C15 -> 0 | D14: =D15 -> 0 | E14: =E15 -> 0 | F14: =F15 -> 0 | G14: =G15 -> 0 | H14: =H15 -> 0 | I14: =I15 -> 0 | J14: =J15 -> 0 | ... N14: =N15 -> 0 | P14: =Q14+R14+S14+T14 -> 0
A15: A4. IMPOZITE SI TAXE PE BUNURI SI SERVICII (cod 15.10) | B15: 00.10 | C15: =C16 -> 0 | D15: =D16 -> 0 | E15: =E16 -> 0 | F15: =F16 -> 0 | G15: =G16 -> 0 | H15: =H16 -> 0 | I15: =I16 -> 0 | J15: =J16 -> 0 | ... N15: =N16 -> 0 | P15: =Q15+R15+S15+T15 -> 0
A16: Taxe pe servicii specifice (cod 15.10.01+15.10.50) | B16: 15.10 | C16: =C17+C18 -> 0 | D16: =D17+D18 -> 0 | E16: =E17+E18 -> 0 | F16: =F17+F18 -> 0 | G16: =G17+G18 -> 0 | H16: =H17+H18 -> 0 | I16: =I17+I18 -> 0 | J16: =J17+J18 -> 0 | ... N16: =N17+N18 -> 0
A17: Impozit pe spectacole | B17: 15.10.01 | E17: =C17+D17 -> 0 | F17: =G17+H17+I17+J17 -> 0 | K17: 0 | L17: 0 | M17: 0 | N17: 0 | O17: 1
A18: Alte taxe pe servicii specifice | B18: 15.10.50 | E18: =C18+D18 -> 0 | F18: =G18+H18+I18+J18 -> 0 | K18: 0 | L18: 0 | M18: 0 | N18: 0 | O18: 1
A19: C. VENITURI NEFISCALE (cod 00.13+00.14) | B19: 00.12 | C19: =C20+C31 -> 6151 | D19: =D20+D31 -> 0 | E19: =E20+E31 -> 6151 | F19: =F20+F31 -> 6116 | G19: =G20+G31 -> 1641 | H19: =H20+H31 -> 1642 | I19: =I20+I31 -> 1567 | J19: =J20+J31 -> 1266 | ... N19: =N20+N31 -> 6300
A20: C1. VENITURI DIN PROPRIETATE (cod 30.10+31.10) | B20: 00.13 | C20: =C21+C29 -> 0 | D20: =D21+D29 -> 0 | E20: =E21+E29 -> 0 | F20: =F21+F29 -> 0 | G20: =G21+G29 -> 0 | H20: =H21+H29 -> 0 | I20: =I21+I29 -> 0 | J20: =J21+J29 -> 0 | ... N20: =N21+N29 -> 0 | P20: =Q20+R20+S20+T20 -> 0
A21: Venituri din proprietate (cod 30.10.05+30.10.08+30.10.09+30.10.50) | B21: 30.10 | C21: =C22+C24+C27+C28 -> 0 | D21: =D22+D24+D27+D28 -> 0 | E21: =E22+E24+E27+E28 -> 0 | F21: =F22+F24+F27+F28 -> 0 | G21: =G22+G24+G27+G28 -> 0 | H21: =H22+H24+H27+H28 -> 0 | I21: =I22+I24+I27+I28 -> 0 | J21: =J22+J24+J27+J28 -> 0 | ... N21: =N22+N24+N27+N28 -> 0 | P21: =Q21+R21+S21+T21 -> 0
A22: Venituri din concesiuni si inchirieri (cod 30.10.05.30) | B22: 30.10.05 | C22: =C23 -> 0 | D22: =D23 -> 0 | E22: =E23 -> 0 | F22: =F23 -> 0 | G22: =G23 -> 0 | H22: =H23 -> 0 | I22: =I23 -> 0 | J22: =J23 -> 0 | ... N22: =N23 -> 0 | P22: =Q22+R22+S22+T22 -> 0
A23: Alte venituri din concesiuni si inchiriere de catre institutiile publice | B23: 30.10.05.30 | C23: 0 | E23: =C23+D23 -> 0 | F23: =G23+H23+I23+J23 -> 0 | G23: 0 | H23: 0 | I23: 0 | J23: 0 | K23: 0 | L23: 0 | M23: 0 | N23: 0 | O23: 1 | P23: =Q23+R23+S23+T23 -> 0
A24: Venituri din dividende (cod 30.10.08.02+30.10.08.03) | B24: 30.10.08 | C24: =C25+C26 -> 0 | D24: =D25+D26 -> 0 | E24: =E25+E26 -> 0 | F24: =F25+F26 -> 0 | G24: =G25+G26 -> 0 | H24: =H25+H26 -> 0 | I24: =I25+I26 -> 0 | J24: =J25+J26 -> 0 | ... N24: =N25+N26 -> 0
A25: Venituri din dividende de la alti platitori | B25: 30.10.08.02 | E25: =C25+D25 -> 0 | F25: =G25+H25+I25+J25 -> 0 | K25: 0 | L25: 0 | M25: 0 | N25: 0 | O25: 1
A26: Dividende de la societatile si companiile nationale si societatile cu capital majoritar de stat | B26: 30.10.08.03 | E26: =C26+D26 -> 0 | F26: =G26+H26+I26+J26 -> 0 | K26: 0 | L26: 0 | M26: 0 | N26: 0 | O26: 1
A27: Venituri din utilizarea pasunilor comunale | B27: 30.10.09 | E27: =C27+D27 -> 0 | F27: =G27+H27+I27+J27 -> 0 | K27: 0 | L27: 0 | M27: 0 | N27: 0 | O27: 1
A28: Alte venituri din proprietate | B28: 30.10.50 | E28: =C28+D28 -> 0 | F28: =G28+H28+I28+J28 -> 0 | K28: 0 | L28: 0 | M28: 0 | N28: 0 | O28: 1
A29: Venituri din dobanzi (cod 31.10.03) | B29: 31.10 | C29: =C30 -> 0 | D29: =D30 -> 0 | E29: =E30 -> 0 | F29: =F30 -> 0 | G29: =G30 -> 0 | H29: =H30 -> 0 | I29: =I30 -> 0 | J29: =J30 -> 0 | ... N29: =N30 -> 0
A30: Alte venituri din dobanzi | B30: 31.10.03 | E30: =C30+D30 -> 0 | F30: =G30+H30+I30+J30 -> 0 | K30: 0 | L30: 0 | M30: 0 | N30: 0 | O30: 1
A31: C2. VANZARI DE BUNURI SI SERVICII (cod 33.10+34.10+35.10+36.10+37.10) | B31: 00.14 | C31: =C32+C47+C49+C51+C57 -> 6151 | D31: =D32+D47+D49+D51+D57 -> 0 | E31: =E32+E47+E49+E51+E57 -> 6151 | F31: =F32+F47+F49+F51+F57 -> 6116 | G31: =G32+G47+G49+G51+G57 -> 1641 | H31: =H32+H47+H49+H51+H57 -> 1642 | I31: =I32+I47+I49+I51+I57 -> 1567 | J31: =J32+J47+J49+J51+J57 -> 1266 | ... N31: =N32+N47+N49+N51+N57 -> 6300 | P31: =Q31+R31+S31+T31 -> 0
A32: Venituri din prestari servicii si alte activitati (cod 33.10.05+33.10.08+33.10.09+33.10.13+33.10.14+33.10.16+33.10.17+33.10.19+33.10.20+33.10.21+33.10.30 la 33.10.32+33.10.50) | B32: 33.10 | C32: =C33+C34+C35+C36+C37+C38+C39+C40+C41+C42+C43+C44+C45+C46 -> 6151 | D32: =D33+D34+D35+D36+D37+D38+D39+D40+D41+D42+D43+D44+D45+D46 -> 0 | E32: =E33+E34+E35+E36+E37+E38+E39+E40+E41+E42+E43+E44+E45+E46 -> 6151 | F32: =F33+F34+F35+F36+F37+F38+F39+F40+F41+F42+F43+F44+F45+F46 -> 6116 | G32: =G33+G34+G35+G36+G37+G38+G39+G40+G41+G42+G43+G44+G45+G46 -> 1641 | H32: =H33+H34+H35+H36+H37+H38+H39+H40+H41+H42+H43+H44+H45+H46 -> 1642 | I32: =I33+I34+I35+I36+I37+I38+I39+I40+I41+I42+I43+I44+I45+I46 -> 1567 | J32: =J33+J34+J35+J36+J37+J38+J39+J40+J41+J42+J43+J44+J45+J46 -> 1266 | ... X32: =X33+X34+X35+X36+X37+X38+X39+X40+X41+X42+X43+X44+X45+X46 -> #VALUE!
A33: Taxe si alte venituri in invatamant | B33: 33.10.05 | E33: =C33+D33 -> 0 | F33: =G33+H33+I33+J33 -> 0 | K33: 0 | L33: 0 | M33: 0 | N33: 0 | O33: 1 | Q33: 0
A34: Venituri din prestari de servicii | B34: 33.10.08 | C34: 147 | E34: =C34+D34 -> 147 | F34: =G34+H34+I34+J34 -> 164 | G34: 40 | H34: 42 | I34: 42 | J34: 40 | K34: 0 | L34: 0 | M34: 0 | N34: 0 | O34: 1 | P34: =Q34+R34+S34+T34 -> 0 | U34: =G34+H34 -> 82
A35: Taxe si alte venituri din protectia mediului | B35: 33.10.09 | E35: =C35+D35 -> 0 | F35: =G35+H35+I35+J35 -> 0 | K35: 0 | L35: 0 | M35: 0 | N35: 0 | O35: 1 | T35: 4920 | U35: -280
A36: Contributia de intretinere a persoanelor asistate | B36: 33.10.13 | E36: =C36+D36 -> 0 | F36: =G36+H36+I36+J36 -> 0 | K36: 0 | L36: 0 | M36: 0 | N36: 0 | O36: 1 | T36: 667 | U36: -33
A37: Contributia elevilor si studentilor pentru internate, camine si cantine | B37: 33.10.14 | E37: =C37+D37 -> 0 | F37: =G37+H37+I37+J37 -> 0 | K37: 0 | L37: 0 | M37: 0 | N37: 0 | O37: 1 | U37: -353
A38: Venituri din valorificarea produselor obtinute din activitatea proprie sau anexa | B38: 33.10.16 | E38: =C38+D38 -> 0 | F38: =G38+H38+I38+J38 -> 0 | K38: 0 | L38: 0 | M38: 0 | N38: 0 | O38: 1
A39: Venituri din organizarea de cursuri de calificare si conversie profesionala, specializare si perfectionare | B39: 33.10.17 | E39: =C39+D39 -> 0 | F39: =G39+H39+I39+J39 -> 0 | K39: 0 | L39: 0 | M39: 0 | N39: 0 | O39: 1
A40: Venituri din serbari si spectacole scolare, manifestari culturale, artistice si sportive | B40: 33.10.19 | E40: =C40+D40 -> 0 | F40: =G40+H40+I40+J40 -> 0 | K40: 0 | L40: 0 | M40: 0 | N40: 0 | O40: 1
A41: Venituri din cercetare | B41: 33.10.20 | E41: =C41+D41 -> 0 | F41: =G41+H41+I41+J41 -> 0 | K41: 0 | L41: 0 | M41: 0 | N41: 0 | O41: 1
A42: Venituri din contractele incheiate cu casele de asigurari sociale de sanatate | B42: 33.10.21 | C42: 4964 | E42: =C42+D42 -> 4964 | F42: =G42+H42+I42+J42 -> 5126 | G42: 1300 | H42: 1300 | I42: 1300 | J42: 1226 | K42: 0 | L42: 6200 | M42: 6250 | N42: 6300 | O42: 1 | P42: =Q42+R42+S42+T42 -> 0 | U42: =G42+H42 -> 2600
A43: Venituri din contractele incheiate cu DSP din sume alocate de la bugetul de stat | B43: 33.10.30 | C43: 1040 | E43: =C43+D43 -> 1040 | F43: =G43+H43+I43+J43 -> 825 | G43: 300 | H43: 300 | I43: 225 | J43: 0 | K43: 0 | L43: 0 | M43: 0 | N43: 0 | O43: 1 | P43: =Q43+R43+S43+T43 -> 0 | U43: =G43+H43 -> 600
A44: Venituri din contractele incheiate cu directiile de sanatate publica din sume alocate din veniturile proprii ale Ministerului Sanatatii | B44: 33.10.31 | E44: =C44+D44 -> 0 | F44: =G44+H44+I44+J44 -> 0 | K44: 0 | L44: 0 | M44: 0 | N44: 0 | O44: 1
...

Sheet TG. BUJOR 2024 nov.2024 (2)
A1: SPITALUL ORĂŞENESC TG. BUJOR | C1: Ordonator principal de credite, | L1: Director executiv,
A2: Nr. Înregistrare. 40495 din 14.11.2024 | C2: Fotea Costel | F2: Fotea Costel | H2: Director executiv, | L2: Stoica George
H3: Stoica George
A7: BUGETUL INSTITUŢIILOR PUBLCE ŞI ACTIVITĂŢILOR FINANŢATE INTEGRAL SAU PARŢIAL DIN VENITURI PROPRII, PE ANUL 2024
A9: HCJ nr.336/27.11.2024 | N9: -mii lei-
A10: DENUMIRE INDICATOR | B10: ARTICOL | C10: BUGET 2024 | L10: 2025 | M10: 2026 | N10: 2027
C11: BUGET INITIAL | D11: INFLU ENTE | E11: BUGET FINAL | F11: TOTAL an | G11: TRIM. I | H11: TRIM. II | I11: TRIM. III | J11: TRIM. IV | K11: Din care credite bugetare destinate stingerii platilor restante | P11: total infl. | Q11: TRIM. I | R11: TRIM. II | S11: TRIM. III | T11: TRIM. IV | V11: TRIM. II | W11: TRIM. III | X11: TRIM. IV
A12: 1 | B12: 2 | C12: 3 | D12: 4 | E12: 5 | F12: 3 | G12: 4 | H12: 5 | I12: 5 | J12: 7 | K12: 11 | L12: 12 | M12: 13 | N12: 14 | Q12: 7 | R12: 8 | S12: 9 | T12: 10
A13: TOTAL VENITURI (cod 00.02+00.15+00.16+00.17+45.10+48.10) | B13: 00.01 | C13: =C14+C63+C67+C77+C105+C167 -> 17782.08 | D13: =D14+D63+D67+D77+D105+D167 -> 90 | E13: =E14+E63+E67+E77+E105+E167 -> 17872.08 | F13: =F14+F63+F67+F77+F105+F167 -> 17872.075 | G13: =G14+G63+G67+G77+G105+G167 -> 3931 | H13: =H14+H63+H67+H77+H105+H167 -> 5360.075 | I13: =I14+I63+I67+I77+I105+I167 -> 4161 | J13: =J14+J63+J67+J77+J105+J167 -> 4420 | ... X13: =X14+X63+X67+X77+X105+X167 -> 0
A14: I. VENITURI CURENTE (cod 00.03+00.12) | B14: 00.02 | C14: =C15+C20 -> 5561 | D14: =D15+D20 -> 590 | E14: =E15+E20 -> 6151 | F14: =F15+F20 -> 6151 | G14: =G15+G20 -> 1595 | H14: =H15+H20 -> 1385 | I14: =I15+I20 -> 1525 | J14: =J15+J20 -> 1646 | ... N14: =N15+N20 -> 5970 | P14: =Q14+R14+S14+T14 -> 0 | U14: =G14+H14 -> 2980
A15: A. VENITURI FISCALE (cod 00.10) | B15: 00.03 | C15: =C16 -> 0 | D15: =D16 -> 0 | E15: =E16 -> 0 | F15: =F16 -> 0 | G15: =G16 -> 0 | H15: =H16 -> 0 | I15: =I16 -> 0 | J15: =J16 -> 0 | ... N15: =N16 -> 0 | P15: =Q15+R15+S15+T15 -> 0
A16: A4. IMPOZITE SI TAXE PE BUNURI SI SERVICII (cod 15.10) | B16: 00.10 | C16: =C17 -> 0 | D16: =D17 -> 0 | E16: =E17 -> 0 | F16: =F17 -> 0 | G16: =G17 -> 0 | H16: =H17 -> 0 | I16: =I17 -> 0 | J16: =J17 -> 0 | ... N16: =N17 -> 0 | P16: =Q16+R16+S16+T16 -> 0
A17: Taxe pe servicii specifice (cod 15.10.01+15.10.50) | B17: 15.10 | C17: =C18+C19 -> 0 | D17: =D18+D19 -> 0 | E17: =E18+E19 -> 0 | F17: =F18+F19 -> 0 | G17: =G18+G19 -> 0 | H17: =H18+H19 -> 0 | I17: =I18+I19 -> 0 | J17: =J18+J19 -> 0 | ... N17: =N18+N19 -> 0
A18: Impozit pe spectacole | B18: 15.10.01 | E18: =C18+D18 -> 0 | F18: =G18+H18+I18+J18 -> 0 | K18: 0 | L18: 0 | M18: 0 | N18: 0 | O18: 1
A19: Alte taxe pe servicii specifice | B19: 15.10.50 | E19: =C19+D19 -> 0 | F19: =G19+H19+I19+J19 -> 0 | K19: 0 | L19: 0 | M19: 0 | N19: 0 | O19: 1
A20: C. VENITURI NEFISCALE (cod 00.13+00.14) | B20: 00.12 | C20: =C21+C32 -> 5561 | D20: =D21+D32 -> 590 | E20: =E21+E32 -> 6151 | F20: =F21+F32 -> 6151 | G20: =G21+G32 -> 1595 | H20: =H21+H32 -> 1385 | I20: =I21+I32 -> 1525 | J20: =J21+J32 -> 1646 | ... N20: =N21+N32 -> 5970
A21: C1. VENITURI DIN PROPRIETATE (cod 30.10+31.10) | B21: 00.13 | C21: =C22+C30 -> 0 | D21: =D22+D30 -> 0 | E21: =E22+E30 -> 0 | F21: =F22+F30 -> 0 | G21: =G22+G30 -> 0 | H21: =H22+H30 -> 0 | I21: =I22+I30 -> 0 | J21: =J22+J30 -> 0 | ... N21: =N22+N30 -> 0 | P21: =Q21+R21+S21+T21 -> 0
A22: Venituri din proprietate (cod 30.10.05+30.10.08+30.10.09+30.10.50) | B22: 30.10 | C22: =C23+C25+C28+C29 -> 0 | D22: =D23+D25+D28+D29 -> 0 | E22: =E23+E25+E28+E29 -> 0 | F22: =F23+F25+F28+F29 -> 0 | G22: =G23+G25+G28+G29 -> 0 | H22: =H23+H25+H28+H29 -> 0 | I22: =I23+I25+I28+I29 -> 0 | J22: =J23+J25+J28+J29 -> 0 | ... N22: =N23+N25+N28+N29 -> 0 | P22: =Q22+R22+S22+T22 -> 0
A23: Venituri din concesiuni si inchirieri (cod 30.10.05.30) | B23: 30.10.05 | C23: =C24 -> 0 | D23: =D24 -> 0 | E23: =E24 -> 0 | F23: =F24 -> 0 | G23: =G24 -> 0 | H23: =H24 -> 0 | I23: =I24 -> 0 | J23: =J24 -> 0 | ... N23: =N24 -> 0 | P23: =Q23+R23+S23+T23 -> 0
A24: Alte venituri din concesiuni si inchiriere de catre institutiile publice | B24: 30.10.05.30 | C24: 0 | E24: =C24+D24 -> 0 | F24: =G24+H24+I24+J24 -> 0 | G24: 0 | H24: 0 | I24: 0 | J24: 0 | K24: 0 | L24: 0 | M24: 0 | N24: 0 | O24: 1 | P24: =Q24+R24+S24+T24 -> 0
A25: Venituri din dividende (cod 30.10.08.02+30.10.08.03) | B25: 30.10.08 | C25: =C26+C27 -> 0 | D25: =D26+D27 -> 0 | E25: =E26+E27 -> 0 | F25: =F26+F27 -> 0 | G25: =G26+G27 -> 0 | H25: =H26+H27 -> 0 | I25: =I26+I27 -> 0 | J25: =J26+J27 -> 0 | ... N25: =N26+N27 -> 0
A26: Venituri din dividende de la alti platitori | B26: 30.10.08.02 | E26: =C26+D26 -> 0 | F26: =G26+H26+I26+J26 -> 0 | K26: 0 | L26: 0 | M26: 0 | N26: 0 | O26: 1
A27: Dividende de la societatile si companiile nationale si societatile cu capital majoritar de stat | B27: 30.10.08.03 | E27: =C27+D27 -> 0 | F27: =G27+H27+I27+J27 -> 0 | K27: 0 | L27: 0 | M27: 0 | N27: 0 | O27: 1
A28: Venituri din utilizarea pasunilor comunale | B28: 30.10.09 | E28: =C28+D28 -> 0 | F28: =G28+H28+I28+J28 -> 0 | K28: 0 | L28: 0 | M28: 0 | N28: 0 | O28: 1
A29: Alte venituri din proprietate | B29: 30.10.50 | E29: =C29+D29 -> 0 | F29: =G29+H29+I29+J29 -> 0 | K29: 0 | L29: 0 | M29: 0 | N29: 0 | O29: 1
A30: Venituri din dobanzi (cod 31.10.03) | B30: 31.10 | C30: =C31 -> 0 | D30: =D31 -> 0 | E30: =E31 -> 0 | F30: =F31 -> 0 | G30: =G31 -> 0 | H30: =H31 -> 0 | I30: =I31 -> 0 | J30: =J31 -> 0 | ... N30: =N31 -> 0
A31: Alte venituri din dobanzi | B31: 31.10.03 | E31: =C31+D31 -> 0 | F31: =G31+H31+I31+J31 -> 0 | K31: 0 | L31: 0 | M31: 0 | N31: 0 | O31: 1
A32: C2. VANZARI DE BUNURI SI SERVICII (cod 33.10+34.10+35.10+36.10+37.10) | B32: 00.14 | C32: =C33+C48+C50+C52+C58 -> 5561 | D32: =D33+D48+D50+D52+D58 -> 590 | E32: =E33+E48+E50+E52+E58 -> 6151 | F32: =F33+F48+F50+F52+F58 -> 6151 | G32: =G33+G48+G50+G52+G58 -> 1595 | H32: =H33+H48+H50+H52+H58 -> 1385 | I32: =I33+I48+I50+I52+I58 -> 1525 | J32: =J33+J48+J50+J52+J58 -> 1646 | ... N32: =N33+N48+N50+N52+N58 -> 5970 | P32: =Q32+R32+S32+T32 -> 0
A33: Venituri din prestari servicii si alte activitati (cod 33.10.05+33.10.08+33.10.09+33.10.13+33.10.14+33.10.16+33.10.17+33.10.19+33.10.20+33.10.21+33.10.30 la 33.10.32+33.10.50) | B33: 33.10 | C33: =C34+C35+C36+C37+C38+C39+C40+C41+C42+C43+C44+C45+C46+C47 -> 5561 | D33: =D34+D35+D36+D37+D38+D39+D40+D41+D42+D43+D44+D45+D46+D47 -> 590 | E33: =E34+E35+E36+E37+E38+E39+E40+E41+E42+E43+E44+E45+E46+E47 -> 6151 | F33: =F34+F35+F36+F37+F38+F39+F40+F41+F42+F43+F44+F45+F46+F47 -> 6151 | G33: =G34+G35+G36+G37+G38+G39+G40+G41+G42+G43+G44+G45+G46+G47 -> 1595 | H33: =H34+H35+H36+H37+H38+H39+H40+H41+H42+H43+H44+H45+H46+H47 -> 1385 | I33: =I34+I35+I36+I37+I38+I39+I40+I41+I42+I43+I44+I45+I46+I47 -> 1525 | J33: =J34+J35+J36+J37+J38+J39+J40+J41+J42+J43+J44+J45+J46+J47 -> 1646 | ... X33: =X34+X35+X36+X37+X38+X39+X40+X41+X42+X43+X44+X45+X46+X47 -> #VALUE!
A34: Taxe si alte venituri in invatamant | B34: 33.10.05 | E34: =C34+D34 -> 0 | F34: =G34+H34+I34+J34 -> 0 | K34: 0 | L34: 0 | M34: 0 | N34: 0 | O34: 1 | Q34: 0
A35: Venituri din prestari de servicii | B35: 33.10.08 | C35: 107 | D35: 40 | E35: =C35+D35 -> 147 | F35: =G35+H35+I35+J35 -> 147 | G35: 25 | H35: 35 | I35: 25 | J35: 62 | K35: 0 | L35: 0 | M35: 0 | N35: 0 | O35: 1 | P35: =Q35+R35+S35+T35 -> 0 | U35: =G35+H35 -> 60
A36: Taxe si alte venituri din protectia mediului | B36: 33.10.09 | E36: =C36+D36 -> 0 | F36: =G36+H36+I36+J36 -> 0 | K36: 0 | L36: 0 | M36: 0 | N36: 0 | O36: 1 | T36: 4920 | U36: -280
A37: Contributia de intretinere a persoanelor asistate | B37: 33.10.13 | E37: =C37+D37 -> 0 | F37: =G37+H37+I37+J37 -> 0 | K37: 0 | L37: 0 | M37: 0 | N37: 0 | O37: 1 | T37: 667 | U37: -33
A38: Contributia elevilor si studentilor pentru internate, camine si cantine | B38: 33.10.14 | E38: =C38+D38 -> 0 | F38: =G38+H38+I38+J38 -> 0 | K38: 0 | L38: 0 | M38: 0 | N38: 0 | O38: 1 | U38: -353
A39: Venituri din valorificarea produselor obtinute din activitatea proprie sau anexa | B39: 33.10.16 | E39: =C39+D39 -> 0 | F39: =G39+H39+I39+J39 -> 0 | K39: 0 | L39: 0 | M39: 0 | N39: 0 | O39: 1
A40: Venituri din organizarea de cursuri de calificare si conversie profesionala, specializare si perfectionare | B40: 33.10.17 | E40: =C40+D40 -> 0 | F40: =G40+H40+I40+J40 -> 0 | K40: 0 | L40: 0 | M40: 0 | N40: 0 | O40: 1
A41: Venituri din serbari si spectacole scolare, manifestari culturale, artistice si sportive | B41: 33.10.19 | E41: =C41+D41 -> 0 | F41: =G41+H41+I41+J41 -> 0 | K41: 0 | L41: 0 | M41: 0 | N41: 0 | O41: 1
A42: Venituri din cercetare | B42: 33.10.20 | E42: =C42+D42 -> 0 | F42: =G42+H42+I42+J42 -> 0 | K42: 0 | L42: 0 | M42: 0 | N42: 0 | O42: 1
A43: Venituri din contractele incheiate cu casele de asigurari sociale de sanatate | B43: 33.10.21 | C43: 4414 | D43: 550 | E43: =C43+D43 -> 4964 | F43: =G43+H43+I43+J43 -> 4964 | G43: 1200 | H43: 1000 | I43: 1180 | J43: 1584 | K43: 0 | L43: 6040 | M43: 6005 | N43: 5970 | O43: 1 | P43: =Q43+R43+S43+T43 -> 0 | U43: =G43+H43 -> 2200
A44: Venituri din contractele incheiate cu DSP din sume alocate de la bugetul de stat | B44: 33.10.30 | C44: 1040 | E44: =C44+D44 -> 1040 | F44: =G44+H44+I44+J44 -> 1040 | G44: 370 | H44: 350 | I44: 320 | J44: 0 | K44: 0 | L44: 0 | M44: 0 | N44: 0 | O44: 1 | P44: =Q44+R44+S44+T44 -> 0 | U44: =G44+H44 -> 720
...

Sheet TG. BUJOR 2024 nov.2024
A1: SPITALUL ORĂŞENESC TG. BUJOR | C1: Ordonator principal de credite, | L1: Director executiv,
A2: Nr. Înregistrare. 40495 din 14.11.2024 | C2: Fotea Costel | H2: Director executiv, | L2: Stoica George
H3: Stoica George
A7: BUGETUL INSTITUŢIILOR PUBLCE ŞI ACTIVITĂŢILOR FINANŢATE INTEGRAL SAU PARŢIAL DIN VENITURI PROPRII, PE ANUL 2024
A9: HCJ nr.336 /27.10.2024 | N9: -mii lei-
A10: DENUMIRE INDICATOR | B10: ARTICOL | C10: BUGET 2024 | L10: 2025 | M10: 2026 | N10: 2027
C11: BUGET INITIAL | D11: INFLU ENTE | E11: BUGET FINAL | F11: TOTAL an | G11: TRIM. I | H11: TRIM. II | I11: TRIM. III | J11: TRIM. IV | K11: Din care credite bugetare destinate stingerii platilor restante | P11: total infl. | Q11: TRIM. I | R11: TRIM. II | S11: TRIM. III | T11: TRIM. IV | V11: TRIM. II | W11: TRIM. III | X11: TRIM. IV
A12: 1 | B12: 2 | C12: 3 | D12: 4 | E12: 5 | F12: 3 | G12: 4 | H12: 5 | I12: 5 | J12: 7 | K12: 11 | L12: 12 | M12: 13 | N12: 14 | Q12: 7 | R12: 8 | S12: 9 | T12: 10
A13: TOTAL VENITURI (cod 00.02+00.15+00.16+00.17+45.10+48.10) | B13: 00.01 | C13: =C14+C63+C67+C77+C105+C167 -> 17782.08 | D13: =D14+D63+D67+D77+D105+D167 -> 90 | E13: =E14+E63+E67+E77+E105+E167 -> 17872.08 | F13: =F14+F63+F67+F77+F105+F167 -> 17872.08 | G13: =G14+G63+G67+G77+G105+G167 -> 3931 | H13: =H14+H63+H67+H77+H105+H167 -> 5360.08 | I13: =I14+I63+I67+I77+I105+I167 -> 4161 | J13: =J14+J63+J67+J77+J105+J167 -> 4420 | ... X13: =X14+X63+X67+X77+X105+X167 -> 0
A14: I. VENITURI CURENTE (cod 00.03+00.12) | B14: 00.02 | C14: =C15+C20 -> 5561 | D14: =D15+D20 -> 590 | E14: =E15+E20 -> 6151 | F14: =F15+F20 -> 6151 | G14: =G15+G20 -> 1595 | H14: =H15+H20 -> 1385 | I14: =I15+I20 -> 1525 | J14: =J15+J20 -> 1646 | ... N14: =N15+N20 -> 5970 | P14: =Q14+R14+S14+T14 -> 0 | U14: =G14+H14 -> 2980
A15: A. VENITURI FISCALE (cod 00.10) | B15: 00.03 | C15: =C16 -> 0 | D15: =D16 -> 0 | E15: =E16 -> 0 | F15: =F16 -> 0 | G15: =G16 -> 0 | H15: =H16 -> 0 | I15: =I16 -> 0 | J15: =J16 -> 0 | ... N15: =N16 -> 0 | P15: =Q15+R15+S15+T15 -> 0
