Workbook

Sheet anexa 7b
A1: SPITALUL ORĂŞENESC TG. BUJOR | J1: ANEXA 7b
A2: CONTUL DE EXECUŢIE A BUGETULUI INSTITUŢIILOR PUBLICE ŞI ACTIVITĂŢILOR FINANŢATE INTEGRAL SAU PARŢIAL DIN VENITURI PROPRII (DE SUBORDONARE LOCALĂ) - CHELTUIELI
A3: la data de 31 martie 2025
D4: =D9-'[1]TG. BUJOR 2025 (2)'!$F$201*1000 -> 0 | E4: =E9-'[1]TG. BUJOR 2025 (2)'!$G$201*1000 -> 0 | H4: =H9-[2]T1!$B$7 -> -0.54 | J4: =J9-[2]T1!$M$7 -> -0.03
A5: Cod 21 Capitol *) 66 Subcapitol 10 | J5: - lei -
A6: DENUMIREA INDICATORILOR | B6: Cod indicator | C6: Credite de angajament | D6: Credite bugetare | F6: Angajamente bugetare | G6: Angajamente legale | H6: Plăţi efectuate | I6: Angajamente legale de plătit | J6: Cheltuieli efective
D7: anuale aprobate la finele perioadei de raportare | E7: trimestriale cumulate
A8: A | B8: B | C8: 1 | D8: 2 | E8: 3 | F8: 4 | G8: 5 | H8: 6 | I8: 7=5-6 | J8: 8
A9: TOTAL CHELTUIELI (SECŢIUNEA DE FUNCŢIONARE + SECŢIUNEA DE DEZVOLTARE) | D9: =D10+D133+D114 -> 18340075 | E9: =E10+E133+E114 -> 4436000 | F9: =F10+F133+F114 -> 14743587 | G9: =G10+G133+G114 -> 4238262 | H9: =H10+H133+H114+H132 -> 3987926 | I9: =I10+I133+I114 -> 250336 | J9: =J10+J133+J114 -> 4218507
A10: SECŢIUNEA DE FUNCŢIONARE (cod 01+79) | D10: =D11 -> 16901000 | E10: =E11 -> 4436000 | F10: =F11 -> 14743587 | G10: =G11 -> 4238262 | H10: =H11 -> 3987926 | I10: =I11 -> 250336 | J10: =J11 -> 4174317
A11: CHELTUIELI CURENTE (10+20+30+40+50+51SF+55SF+57+59) | B11: 01 | D11: =D12+D29+D76+D77+D110 -> 16901000 | E11: =E12+E29+E76+E77+E110 -> 4436000 | F11: =F12+F29+F76+F77+F110 -> 14743587 | G11: =G12+G29+G76+G77+G110 -> 4238262 | H11: =H12+H29+H76+H77+H110 -> 3987926 | I11: =I12+I29+I76+I77+I110 -> 250336 | J11: =J12+J29+J76+J77+J110 -> 4174317
A12: TITLUL I CHELTUIELI DE PERSONAL (cod 10.01 la10.03) | B12: 10 | D12: =D13+D20+D22 -> 13800000 | E12: =E13+E20+E22 -> 3500000 | F12: =F13+F20+F22 -> 13800000 | G12: =G13+G20+G22 -> 3294675 | H12: =H13+H20+H22 -> 3294675 | I12: =I13+I20+I22 -> 0 | J12: =J13+J20+J22 -> 3295280
A13: Cheltuieli salariale în bani ( cod 10.01.01 la 10.01.16+10.01.30) | B13: 10.01 | D13: =SUM(D14:D19) -> 13500000 | E13: =SUM(E14:E19) -> 3420000 | F13: =SUM(F14:F19) -> 13500000 | G13: =SUM(G14:G19) -> 3221759 | H13: =SUM(H14:H19) -> 3221759 | I13: =SUM(I14:I19) -> 0 | J13: =SUM(J14:J19) -> 3222295
A14: Salarii de bază | B14: 10.01.01 | D14: 9600000 | E14: 2400000 | F14: =D14 -> 9600000 | G14: =H14 -> 2375139 | H14: 2375139 | I14: =G14-H14 -> 0 | J14: 2388432
A15: Sporuri pentru condiţii de muncă | B15: 10.01.05 | D15: 880000 | E15: 220000 | F15: =D15 -> 880000 | G15: =H15 -> 210200 | H15: 210200 | I15: =G15-H15 -> 0 | J15: 215883
A16: Alte sporuri | B16: 10.01.06 | D16: 1760000 | E16: 440000 | F16: =D16 -> 1760000 | G16: =H16 -> 396521 | H16: 396521 | I16: =G16-H16 -> 0 | J16: 378234
A17: Fond aferent plăţii cu ora | B17: 10.01.11 | D17: 600000 | E17: 150000 | F17: =D17 -> 600000 | G17: =H17 -> 117524 | H17: 117524 | I17: =G17-H17 -> 0 | J17: 116180
A18: Indemnizaţie de hrană | B18: 10.01.17 | D18: 360000 | E18: 90000 | F18: =D18 -> 360000 | G18: =H18 -> 80830 | H18: 80830 | I18: =G18-H18 -> 0 | J18: 79711
A19: Alte drepturi salariale în bani | B19: 10.01.30 | D19: 300000 | E19: 120000 | F19: =D19 -> 300000 | G19: =H19 -> 41545 | H19: 41545 | I19: =G19-H19 -> 0 | J19: 43855
A20: Cheltuieli salariale în natură ( cod 10.02.01 la 10.02.06+10.02.30) | B20: 10.02 | D20: =SUM(D21:D21) -> 0 | E20: =SUM(E21:E21) -> 0 | F20: =SUM(F21:F21) -> 0 | G20: =SUM(G21:G21) -> 0 | H20: =SUM(H21:H21) -> 0 | I20: =SUM(I21:I21) -> 0 | J20: =SUM(J21:J21) -> 0
A21: Vouchere de vacanță | B21: 10.02.06 | D21: 0 | E21: 0 | F21: =D21 -> 0 | G21: =H21 -> 0 | H21: 0 | I21: =G21-H21 -> 0 | J21: 0
A22: Contribuţii (cod 10.03.01 la 10.03.06) | B22: 10.03 | D22: =SUM(D23:D28) -> 300000 | E22: =SUM(E23:E28) -> 80000 | F22: =SUM(F23:F28) -> 300000 | G22: =SUM(G23:G28) -> 72916 | H22: =SUM(H23:H28) -> 72916 | I22: =SUM(I23:I28) -> 0 | J22: =SUM(J23:J28) -> 72985
A23: Contribuţii de asigurări sociale de stat | B23: 10.03.01 | F23: =D23 -> 0 | G23: =H23 -> 0 | I23: =G23-H23 -> 0
A24: Contribuţii de asigurări de şomaj | B24: 10.03.02 | F24: =D24 -> 0 | G24: =H24 -> 0 | I24: =G24-H24 -> 0
A25: Contribuţii de asigurări sociale de sănătate | B25: 10.03.03 | F25: =D25 -> 0 | G25: =H25 -> 0 | I25: =G25-H25 -> 0
A26: Contribuţii de asigurări pentru accidente de muncă şi boli profesionale | B26: 10.03.04 | F26: =D26 -> 0 | G26: =H26 -> 0 | I26: =G26-H26 -> 0
A27: Contribuţii pentru concedii şi indemnizaţii | B27: 10.03.06 | F27: =D27 -> 0 | G27: =H27 -> 0 | I27: =G27-H27 -> 0 | J27: 0
A28: Contribuția asiguratorie pentru muncă | B28: 10.03.07 | D28: 300000 | E28: 80000 | F28: =D28 -> 300000 | G28: =H28 -> 72916 | H28: 72916 | I28: =G28-H28 -> 0 | J28: 72985
A29: TITLUL II BUNURI ŞI SERVICII (cod 20.01 la 20.06+20.09 la 20.16+20.18 la 20.25+20.27+20.30) | B29: 20 | D29: =D30+D41+D42+D44+D49+D53+D55+D56+D57+D58+D59+D60+D61+D65+D67 -> 2969000 | E29: =E30+E41+E42+E44+E49+E53+E55+E56+E57+E58+E59+E60+E61+E65+E67 -> 900000 | F29: =F30+F41+F42+F44+F49+F53+F55+F56+F57+F58+F59+F60+F61+F65+F67 -> 914988 | G29: =G30+G41+G42+G44+G49+G53+G55+G56+G57+G58+G59+G60+G61+G65+G67 -> 914988 | H29: =H30+H41+H42+H44+H49+H53+H55+H56+H57+H58+H59+H60+H61+H65+H67 -> 664652 | I29: =I30+I41+I42+I44+I49+I53+I55+I56+I57+I58+I59+I60+I61+I65+I67 -> 250336 | J29: =J30+J41+J42+J44+J49+J53+J55+J56+J57+J58+J59+J60+J61+J65+J67 -> 853463 | K29: =I29-[3]stocuri!$D$36 -> 0.14
A30: Bunuri şi servicii (cod 20.01.01 la 20.01.09+20.01.30) | B30: 20.01 | C30: =SUM(C31:C40) -> 0 | D30: =SUM(D31:D40) -> 1408000 | E30: =SUM(E31:E40) -> 389000 | F30: =SUM(F31:F40) -> 410693 | G30: =SUM(G31:G40) -> 410693 | H30: =SUM(H31:H40) -> 353656 | I30: =SUM(I31:I40) -> 57037 | J30: =SUM(J31:J40) -> 393437
A31: Furnituri de birou | B31: 20.01.01 | D31: 30000 | E31: 8000 | F31: =H31+2969 -> 10163 | G31: =F31 -> 10163 | H31: 7194 | I31: =G31-H31 -> 2969 | J31: 8497
A32: Materiale pentru curăţenie | B32: 20.01.02 | D32: 20000 | E32: 5000 | F32: =H32+1397 -> 3573 | G32: =F32 -> 3573 | H32: 2176 | I32: =G32-H32 -> 1397 | J32: 4566
A33: Încalzit, iluminat şi forţă motrică | B33: 20.01.03 | D33: 340000 | E33: 140000 | F33: =H33+27000 -> 165250 | G33: =F33 -> 165250 | H33: 138250 | I33: =G33-H33 -> 27000 | J33: 181467
A34: Apă, canal şi salubritate | B34: 20.01.04 | D34: 100000 | E34: 30000 | F34: =H34 -> 25974 | G34: =F34 -> 25974 | H34: 25974 | I34: =G34-H34 -> 0 | J34: 21842
A35: Carburanţi şi lubrifianţi | B35: 20.01.05 | D35: 60000 | E35: 15000 | F35: =H35 -> 8936 | G35: =F35 -> 8936 | H35: 8936 | I35: =G35-H35 -> 0 | J35: 8936
A36: Piese de schimb | B36: 20.01.06 | D36: 10000 | E36: 6000 | F36: =H36 -> 0 | G36: =F36 -> 0 | H36: 0 | I36: =G36-H36 -> 0 | J36: 0
A37: Transport | B37: 20.01.07
A38: Poştă, telecomunicaţii, radio, tv, internet | B38: 20.01.08 | D38: 12000 | E38: 3000 | F38: =H38 -> 2312 | G38: =F38 -> 2312 | H38: 2312 | I38: =G38-H38 -> 0 | J38: 2312
A39: Materiale şi prestări de servicii cu caracter funcţional | B39: 20.01.09 | D39: 830000 | E39: 180000 | F39: =H39+25671 -> 193952 | G39: =F39 -> 193952 | H39: 168281 | I39: =G39-H39 -> 25671 | J39: 165284
A40: Alte bunuri şi servicii pentru întreţinere şi funcţionare | B40: 20.01.30 | D40: 6000 | E40: 2000 | F40: =H40 -> 533 | G40: =F40 -> 533 | H40: 533 | I40: =G40-H40 -> 0 | J40: 533
...

Sheet anexa 11
A1: SPITALUL ORĂŞENESC TG. BUJOR | J1: ANEXA 11
A3: CONTUL DE EXECUŢIE A BUGETULUI INSTITUŢIILOR PUBLICE ŞI ACTIVITĂŢILOR FINANŢATE INTEGRAL SAU PARŢIAL DIN VENITURI PROPRII (DE SUBORDONARE LOCALĂ) - CHELTUIELI
A4: la data de 31 martie 2025
J6: - lei -
A7: DENUMIREA INDICATORILOR | B7: Cod indicator | C7: Credite de angajament | D7: Credite bugetare | F7: Angajamente bugetare | G7: Angajamente legale | H7: Plati efectuate | I7: Angajamente legale de platit | J7: Cheltuieli efective
D8: anuale aprobate | E8: trimestriale cumulate
A9: A | B9: B | C9: 1 | D9: 2 | E9: 3 | F9: 4 | G9: 5 | H9: 6 | I9: 7=5-6 | J9: 8
A10: TOTAL CHELTUIELI (cod 50.10+59.10+63.10+70.10+74.10+79.10) | B10: 49.10 | C10: =C11+C16+C22+C64+C73 -> 0 | D10: =D11+D16+D22+D64+D73 -> 18340075 | E10: =E11+E16+E22+E64+E73 -> 4436000 | F10: =F11+F16+F22+F64+F73 -> 14743587 | G10: =G11+G16+G22+G64+G73 -> 4238262 | H10: =H11+H16+H22+H64+H73 -> 3987926 | I10: =I11+I16+I22+I64+I73 -> 250336 | J10: =J11+J16+J22+J64+J73 -> 4218507
A11: Partea I-a SERVICII PUBLICE GENERALE (cod 54.15+55.15) | B11: 50.15
A12: Partea I-a SERVICII PUBLICE GENERALE (cod 54.10+55.10) | B12: 50.10
A13: Alte servicii publice generale (cod 54.10.10+54.10.50) | B13: 54.10
A14: Servicii publice comunitare de evidenţă a persoanelor | B14: 54.10.10
A15: Alte servicii publice generale | B15: 54.10.50
A16: Tranzacţii privind datoria publică şi împrumuturi | B16: 55.10
A17: Partea II-a APARARE, ORDINE PUBLICĂ ŞI SIGURANŢĂ NAŢIONALĂ (cod 61.10) | B17: 59.10
A18: Ordine publică şi siguranţă naţională (cod 61.10.03+61.10.50) | B18: 61.10
A19: Ordine publică (cod 61.10.03.04) | B19: 61.10.03
A20: Poliţia comunitară | B20: 61.10.03.04
A21: Alte cheltuieli în domeniul ordinii publice şi siguranţei naţionale | B21: 61.10.50
A22: Partea III-a CHELTUIELI SOCIAL-CULTURALE (cod 65.10+66.10+67.10+68.10) | B22: 63.10 | C22: =C38 -> 0 | D22: =D38 -> 18340075 | E22: =E38 -> 4436000 | F22: =F38 -> 14743587 | G22: =G38 -> 4238262 | H22: =H38 -> 3987926 | I22: =I38 -> 250336 | J22: =J38 -> 4218507
A23: Învăţământ (cod 65.10.03 la 65.10.05+65.10.07+ 65.10.11+65.10.50) | B23: 65.10
A24: Învaăţământ preşcolar şi primar (cod 65.10.03.01+65.10.03.02) | B24: 65.10.03
A25: Învăţământ preşcolar | B25: 65.10.03.01
A26: Învăţământ primar | B26: 65.10.03.02
A27: Învăţământ secundar (cod 65.10.04.01 la 65.10.04.03) | B27: 65.10.04
A28: Învăţământ secundar inferior | B28: 65.10.04.01
A29: Învăţământ secundar superior | B29: 65.10.04.02
A30: Învăţământ profesional | B30: 65.10.04.03
A31: Învăţămant postliceal | B31: 65.10.05
A32: Învăţământ nedefinibil prin nivel (cod65.10.07.04) | B32: 65.10.07
A33: Învăţământ special | B33: 65.10.07.04
A34: Servicii auxiliare pentru educaţie (cod 65.10.11.03+65.10.11.30) | B34: 65.10.11
... A37: Alte cheltuieli în domeniul învăţământului | B37: 65.10.50
A38: Sănătate (66.10.06+66.10.08+66.10.50) | B38: 66.10 | C38: =C39 -> 0 | D38: =D39 -> 18340075 | E38: =E39 -> 4436000 | F38: =F39 -> 14743587 | G38: =G39 -> 4238262 | H38: =H39 -> 3987926 | I38: =I39 -> 250336 | J38: =J39 -> 4218507
A39: Servicii medicale în unităţi cu paturi (cod 66.10.06.01) | B39: 66.10.06 | C39: =C40 -> 0 | D39: =D40 -> 18340075 | E39: =E40 -> 4436000 | F39: =F40 -> 14743587 | G39: =G40 -> 4238262 | H39: =H40 -> 3987926 | I39: =I40 -> 250336 | J39: =J40 -> 4218507
A40: Spitale generale | B40: 66.10.06.01 | C40: ='anexa 7b'!C9 -> 0 | D40: ='anexa 7b'!D9 -> 18340075 | E40: ='anexa 7b'!E9 -> 4436000 | F40: ='anexa 7b'!F9 -> 14743587 | G40: ='anexa 7b'!G9 -> 4238262 | H40: ='anexa 7b'!H9 -> 3987926 | I40: ='anexa 7b'!I9 -> 250336 | J40: ='anexa 7b'!J9 -> 4218507
A41: Servicii de sănătate publică | B41: 66.10.08
A42: Alte cheltuieli în domeniul sănătăţii (cod 66.10.50.50) | B42: 66.10.50
A43: Alte instituţii şi acţiuni sanitare | B43: 66.10.50.50
A44: Cultură, recreere şi religie (cod 67.10.03+67.10.05+67.10.50) | B44: 67.10
...
