Workbook

Sheet anexa 7b
A1: SPITALUL ORĂŞENESC TG. BUJOR | J1: ANEXA 7b
A2: CONTUL DE EXECUŢIE A BUGETULUI INSTITUŢIILOR PUBLICE ŞI ACTIVITĂŢILOR FINANŢATE INTEGRAL SAU PARŢIAL DIN VENITURI PROPRII (DE SUBORDONARE LOCALĂ) - CHELTUIELI
A3: la data de 31 martie 2025
D4: =D9-'[1]TG. BUJOR 2025 (2)'!$F$201*1000 -> 0 | E4: =E9-'[1]TG. BUJOR 2025 (2)'!$G$201*1000 -> 0 | H4: =H9-[2]T1!$B$7 -> -0.54 | J4: =J9-[2]T1!$M$7 -> -0.03
A5: Cod 21 Capitol *) 66 Subcapitol 10 | J5: - lei -
A6: DENUMIREA INDICATORILOR | B6: Cod indicator | C6: Credite de angajament | D6: Credite bugetare | F6: Angajamente bugetare | G6: Angajamente legale | H6: Plăţi efectuate | I6: Angajamente legale de plătit | J6: Cheltuieli efective
D7: anuale aprobate la finele perioadei de raportare | E7: trimestriale cumulate
A8: A | B8: B | C8: 1 | D8: 2 | E8: 3 | F8: 4 | G8: 5 | H8: 6 | I8: 7=5-6 | J8: 8
A9: TOTAL CHELTUIELI (SECŢIUNEA DE FUNCŢIONARE + SECŢIUNEA DE DEZVOLTARE) | D9: =D10+D133+D114 -> 18340075 | E9: =E10+E133+E114 -> 4436000 | F9: =F10+F133+F114 -> 14743587 | G9: =G10+G133+G114 -> 4238262 | H9: =H10+H133+H114+H132 -> 3987926 | I9: =I10+I133+I114 -> 250336 | J9: =J10+J133+J114 -> 4218507
A10: SECŢIUNEA DE FUNCŢIONARE (cod 01+79) | D10: =D11 -> 16901000 | E10: =E11 -> 4436000 | F10: =F11 -> 14743587 | G10: =G11 -> 4238262 | H10: =H11 -> 3987926 | I10: =I11 -> 250336 | J10: =J11 -> 4174317
A11: CHELTUIELI CURENTE (10+20+30+40+50+51SF+55SF+57+59) | B11: 01 | D11: =D12+D29+D76+D77+D110 -> 16901000 | E11: =E12+E29+E76+E77+E110 -> 4436000 | F11: =F12+F29+F76+F77+F110 -> 14743587 | G11: =G12+G29+G76+G77+G110 -> 4238262 | H11: =H12+H29+H76+H77+H110 -> 3987926 | I11: =I12+I29+I76+I77+I110 -> 250336 | J11: =J12+J29+J76+J77+J110 -> 4174317
A12: TITLUL I CHELTUIELI DE PERSONAL (cod 10.01 la10.03) | B12: 10 | D12: =D13+D20+D22 -> 13800000 | E12: =E13+E20+E22 -> 3500000 | F12: =F13+F20+F22 -> 13800000 | G12: =G13+G20+G22 -> 3294675 | H12: =H13+H20+H22 -> 3294675 | I12: =I13+I20+I22 -> 0 | J12: =J13+J20+J22 -> 3295280
A13: Cheltuieli salariale în bani ( cod 10.01.01 la 10.01.16+10.01.30) | B13: 10.01 | D13: =SUM(D14:D19) -> 13500000 | E13: =SUM(E14:E19) -> 3420000 | F13: =SUM(F14:F19) -> 13500000 | G13: =SUM(G14:G19) -> 3221759 | H13: =SUM(H14:H19) -> 3221759 | I13: =SUM(I14:I19) -> 0 | J13: =SUM(J14:J19) -> 3222295
A14: Salarii de bază | B14: 10.01.01 | D14: 9600000 | E14: 2400000 | F14: =D14 -> 9600000 | G14: =H14 -> 2375139 | H14: 2375139 | I14: =G14-H14 -> 0 | J14: 2388432
A15: Sporuri pentru condiţii de muncă | B15: 10.01.05 | D15: 880000 | E15: 220000 | F15: =D15 -> 880000 | G15: =H15 -> 210200 | H15: 210200 | I15: =G15-H15 -> 0 | J15: 215883
A16: Alte sporuri | B16: 10.01.06 | D16: 1760000 | E16: 440000 | F16: =D16 -> 1760000 | G16: =H16 -> 396521 | H16: 396521 | I16: =G16-H16 -> 0 | J16: 378234
A17: Fond aferent plăţii cu ora | B17: 10.01.11 | D17: 600000 | E17: 150000 | F17: =D17 -> 600000 | G17: =H17 -> 117524 | H17: 117524 | I17: =G17-H17 -> 0 | J17: 116180
A18: Indemnizaţie de hrană | B18: 10.01.17 | D18: 360000 | E18: 90000 | F18: =D18 -> 360000 | G18: =H18 -> 80830 | H18: 80830 | I18: =G18-H18 -> 0 | J18: 79711
A19: Alte drepturi salariale în bani | B19: 10.01.30 | D19: 300000 | E19: 120000 | F19: =D19 -> 300000 | G19: =H19 -> 41545 | H19: 41545 | I19: =G19-H19 -> 0 | J19: 43855
A20: Cheltuieli salariale în natură ( cod 10.02.01 la 10.02.06+10.02.30) | B20: 10.02 | D20: =SUM(D21:D21) -> 0 | E20: =SUM(E21:E21) -> 0 | F20: =SUM(F21:F21) -> 0 | G20: =SUM(G21:G21) -> 0 | H20: =SUM(H21:H21) -> 0 | I20: =SUM(I21:I21) -> 0 | J20: =SUM(J21:J21) -> 0
A21: Vouchere de vacanță | B21: 10.02.06 | D21: 0 | E21: 0 | F21: =D21 -> 0 | G21: =H21 -> 0 | H21: 0 | I21: =G21-H21 -> 0 | J21: 0
A22: Contribuţii (cod 10.03.01 la 10.03.06) | B22: 10.03 | D22: =SUM(D23:D28) -> 300000 | E22: =SUM(E23:E28) -> 80000 | F22: =SUM(F23:F28) -> 300000 | G22: =SUM(G23:G28) -> 72916 | H22: =SUM(H23:H28) -> 72916 | I22: =SUM(I23:I28) -> 0 | J22: =SUM(J23:J28) -> 72985
A23: Contribuţii de asigurări sociale de stat | B23: 10.03.01 | F23: =D23 -> 0 | G23: =H23 -> 0 | I23: =G23-H23 -> 0
A24: Contribuţii de asigurări de şomaj | B24: 10.03.02 | F24: =D24 -> 0 | G24: =H24 -> 0 | I24: =G24-H24 -> 0
A25: Contribuţii de asigurări sociale de sănătate | B25: 10.03.03 | F25: =D25 -> 0 | G25: =H25 -> 0 | I25: =G25-H25 -> 0
A26: Contribuţii de asigurări pentru accidente de muncă şi boli profesionale | B26: 10.03.04 | F26: =D26 -> 0 | G26: =H26 -> 0 | I26: =G26-H26 -> 0
A27: Contribuţii pentru concedii şi indemnizaţii | B27: 10.03.06 | F27: =D27 -> 0 | G27: =H27 -> 0 | I27: =G27-H27 -> 0 | J27: 0
A28: Contribuția asiguratorie pentru muncă | B28: 10.03.07 | D28: 300000 | E28: 80000 | F28: =D28 -> 300000 | G28: =H28 -> 72916 | H28: 72916 | I28: =G28-H28 -> 0 | J28: 72985
A29: TITLUL II BUNURI ŞI SERVICII (cod 20.01 la 20.06+20.09 la 20.16+20.18 la 20.25+20.27+20.30) | B29: 20 | D29: =D30+D41+D42+D44+D49+D53+D55+D56+D57+D58+D59+D60+D61+D65+D67 -> 2969000 | E29: =E30+E41+E42+E44+E49+E53+E55+E56+E57+E58+E59+E60+E61+E65+E67 -> 900000 | F29: =F30+F41+F42+F44+F49+F53+F55+F56+F57+F58+F59+F60+F61+F65+F67 -> 914988 | G29: =G30+G41+G42+G44+G49+G53+G55+G56+G57+G58+G59+G60+G61+G65+G67 -> 914988 | H29: =H30+H41+H42+H44+H49+H53+H55+H56+H57+H58+H59+H60+H61+H65+H67 -> 664652 | I29: =I30+I41+I42+I44+I49+I53+I55+I56+I57+I58+I59+I60+I61+I65+I67 -> 250336 | J29: =J30+J41+J42+J44+J49+J53+J55+J56+J57+J58+J59+J60+J61+J65+J67 -> 853463 | K29: =I29-[3]stocuri!$D$36 -> 0.14
A30: Bunuri şi servicii (cod 20.01.01 la 20.01.09+20.01.30) | B30: 20.01 | C30: =SUM(C31:C40) -> 0 | D30: =SUM(D31:D40) -> 1408000 | E30: =SUM(E31:E40) -> 389000 | F30: =SUM(F31:F40) -> 410693 | G30: =SUM(G31:G40) -> 410693 | H30: =SUM(H31:H40) -> 353656 | I30: =SUM(I31:I40) -> 57037 | J30: =SUM(J31:J40) -> 393437
A31: Furnituri de birou | B31: 20.01.01 | D31: 30000 | E31: 8000 | F31: =H31+2969 -> 10163 | G31: =F31 -> 10163 | H31: 7194 | I31: =G31-H31 -> 2969 | J31: 8497
A32: Materiale pentru curăţenie | B32: 20.01.02 | D32: 20000 | E32: 5000 | F32: =H32+1397 -> 3573 | G32: =F32 -> 3573 | H32: 2176 | I32: =G32-H32 -> 1397 | J32: 4566
A33: Încalzit, iluminat şi forţă motrică | B33: 20.01.03 | D33: 340000 | E33: 140000 | F33: =H33+27000 -> 165250 | G33: =F33 -> 165250 | H33: 138250 | I33: =G33-H33 -> 27000 | J33: 181467
A34: Apă, canal şi salubritate | B34: 20.01.04 | D34: 100000 | E34: 30000 | F34: =H34 -> 25974 | G34: =F34 -> 25974 | H34: 25974 | I34: =G34-H34 -> 0 | J34: 21842
A35: Carburanţi şi lubrifianţi | B35: 20.01.05 | D35: 60000 | E35: 15000 | F35: =H35 -> 8936 | G35: =F35 -> 8936 | H35: 8936 | I35: =G35-H35 -> 0 | J35: 8936
A36: Piese de schimb | B36: 20.01.06 | D36: 10000 | E36: 6000 | F36: =H36 -> 0 | G36: =F36 -> 0 | H36: 0 | I36: =G36-H36 -> 0 | J36: 0
A37: Transport | B37: 20.01.07
A38: Poştă, telecomunicaţii, radio, tv, internet | B38: 20.01.08 | D38: 12000 | E38: 3000 | F38: =H38 -> 2312 | G38: =F38 -> 2312 | H38: 2312 | I38: =G38-H38 -> 0 | J38: 2312
A39: Materiale şi prestări de servicii cu caracter funcţional | B39: 20.01.09 | D39: 830000 | E39: 180000 | F39: =H39+25671 -> 193952 | G39: =F39 -> 193952 | H39: 168281 | I39: =G39-H39 -> 25671 | J39: 165284
A40: Alte bunuri şi servicii pentru întreţinere şi funcţionare | B40: 20.01.30 | D40: 6000 | E40: 2000 | F40: =H40 -> 533 | G40: =F40 -> 533 | H40: 533 | I40: =G40-H40 -> 0 | J40: 533
A41: Reparaţii curente | B41: 20.02 | D41: 20000 | E41: 20000 | F41: =H41 -> 0 | G41: =F41 -> 0 | H41: 0 | I41: =G41-H41 -> 0 | J41: 0
A42: Hrana (cod 20.03.01+20.03.02) | B42: 20.03 | D42: =SUM(D43:D43) -> 160000 | E42: =SUM(E43:E43) -> 40000 | F42: =SUM(F43:F43) -> 42302 | G42: =SUM(G43:G43) -> 42302 | H42: =SUM(H43:H43) -> 34431 | I42: =SUM(I43:I43) -> 7871 | J42: =SUM(J43:J43) -> 38842
A43: Hrana pentru oameni | B43: 20.03.01 | D43: 160000 | E43: 40000 | F43: =H43+7871 -> 42302 | G43: =F43 -> 42302 | H43: 34431 | I43: =G43-H43 -> 7871 | J43: 38842
A44: Medicamente şi materiale sanitare (cod 20.04.01 la 20.04.04) | B44: 20.04 | D44: =SUM(D45:D48) -> 1180000 | E44: =SUM(E45:E48) -> 360000 | F44: =SUM(F45:F48) -> 431879 | G44: =SUM(G45:G48) -> 431879 | H44: =SUM(H45:H48) -> 258188 | I44: =SUM(I45:I48) -> 173691 | J44: =SUM(J45:J48) -> 396949
A45: Medicamente | B45: 20.04.01 | D45: 350000 | E45: 100000 | F45: =61045+H45 -> 120341 | G45: =F45 -> 120341 | H45: 59296 | I45: =G45-H45 -> 61045 | J45: 97158
A46: Materiale sanitare | B46: 20.04.02 | D46: 250000 | E46: 100000 | F46: =17613+H46 -> 59641 | G46: =F46 -> 59641 | H46: 42028 | I46: =G46-H46 -> 17613 | J46: 133319
A47: Reactivi | B47: 20.04.03 | D47: 550000 | E47: 150000 | F47: =H47+92780 -> 242353 | G47: =F47 -> 242353 | H47: 149573 | I47: =G47-H47 -> 92780 | J47: 159623
A48: Dezinfectanţi | B48: 20.04.04 | D48: 30000 | E48: 10000 | F48: =H48+2253 -> 9544 | G48: =F48 -> 9544 | H48: 7291 | I48: =G48-H48 -> 2253 | J48: 6849
A49: Bunuri de natura obiectelor de inventar (cod 20.05.01+20.05.03+20.05.30) | B49: 20.05 | D49: =SUM(D50:D52) -> 70000 | E49: =SUM(E50:E52) -> 40000 | F49: =SUM(F50:F52) -> 4698 | G49: =SUM(G50:G52) -> 4698 | H49: =SUM(H50:H52) -> 1346 | I49: =SUM(I50:I52) -> 3352 | J49: =SUM(J50:J52) -> 0
A50: Uniforme şi echipament | B50: 20.05.01 | D50: 10000 | E50: 5000 | F50: =H50 -> 0 | G50: =F50 -> 0 | H50: 0 | I50: =G50-H50 -> 0 | J50: 0
A51: Lenjerie şi accesorii de pat | B51: 20.05.03 | D51: 10000 | E51: 10000 | F51: =H51 -> 0 | G51: =F51 -> 0 | H51: 0 | I51: =G51-H51 -> 0 | J51: 0
A52: Alte obiecte de inventar | B52: 20.05.30 | D52: 50000 | E52: 25000 | F52: =H52+3352 -> 4698 | G52: =F52 -> 4698 | H52: 1346 | I52: =G52-H52 -> 3352 | J52: 0
A53: Deplasări, detaşări, transferări (cod 20.06.01+20.06.02) | B53: 20.06 | D53: =SUM(D54:D54) -> 8000 | E53: =SUM(E54:E54) -> 2000 | F53: =SUM(F54:F54) -> 0 | G53: =SUM(G54:G54) -> 0 | H53: =SUM(H54:H54) -> 0 | I53: =SUM(I54:I54) -> 0 | J53: =SUM(J54:J54) -> 0
A54: Deplasări interne, detaşări, transferări | B54: 20.06.01 | D54: 8000 | E54: 2000 | F54: =H54 -> 0 | G54: =F54 -> 0 | H54: 0 | I54: =G54-H54 -> 0 | J54: 0
A55: Materiale de laborator | B55: 20.09 | D55: 30000 | E55: 10000 | F55: =H55+3285 -> 9644 | G55: =F55 -> 9644 | H55: 6359 | I55: =G55-H55 -> 3285 | J55: 8463
A56: Cercetare-dezvoltare | B56: 20.10 | F56: =H56 -> 0 | I56: =G56-H56 -> 0
A57: Cărţi, publicaţii şi materiale documentare | B57: 20.11 | D57: 2000 | E57: 1000 | F57: =H57 -> 0 | G57: =F57 -> 0 | H57: 0 | I57: =G57-H57 -> 0
A58: Consultanţă şi expertiză | B58: 20.12 | D58: 2000 | E58: 2000 | F58: =H58 -> 0 | G58: =F58 -> 0 | H58: 0 | I58: =G58-H58 -> 0 | J58: 0
A59: Pregătire profesională | B59: 20.13 | D59: 25000 | E59: 10000 | F59: =H59+4300 -> 9790 | G59: =F59 -> 9790 | H59: 5490 | I59: =G59-H59 -> 4300 | J59: 9790
A60: Protecţia muncii | B60: 20.14 | D60: 25000 | E60: 10000 | F60: =H60+800 -> 2400 | G60: =F60 -> 2400 | H60: 1600 | I60: =G60-H60 -> 800 | J60: 2400
A61: Comisioane şi alte costuri aferente împrumuturilor (cod 20.24.01 la 20.24.03) | B61: 20.24
A62: Comisioane şi alte costuri aferente împrumuturilor externe | B62: 20.24.01
A63: Comisioane şi alte costuri aferente împrumuturilor interne | B63: 20.24.02
A64: Stabilirea riscului de ţară | B64: 20.24.03
A65: Cheltuieli judiciare şi extrajudiciare derivate din acţiuni în reprezentarea intereselor statului, potrivit dispoziţiilor legale | B65: 20.25
A66: Tichete cadou | B66: 20.27
A67: Alte cheltuieli (cod 20.30.01 la 20.30.04+20.30.06+20.30.07+20.30.09+20.30.30) | B67: 20.30 | D67: =SUM(D68:D75) -> 39000 | E67: =SUM(E68:E75) -> 16000 | F67: =SUM(F68:F75) -> 3582 | G67: =SUM(G68:G75) -> 3582 | H67: =SUM(H68:H75) -> 3582 | I67: =SUM(I68:I75) -> 0 | J67: =SUM(J68:J75) -> 3582
A68: Reclamă şi publicitate | B68: 20.30.01 | D68: 4000 | E68: 1000 | F68: =H68 -> 0 | G68: =F68 -> 0 | H68: 0 | I68: =G68-H68 -> 0
A69: Protocol şi reprezentare | B69: 20.30.02 | F69: =H69 -> 0 | G69: =F69 -> 0 | I69: =G69-H69 -> 0
A70: Prime de asigurare non-viaţă | B70: 20.30.03 | D70: 25000 | E70: 10000 | F70: =H70 -> 2765 | G70: =F70 -> 2765 | H70: 2765 | I70: =G70-H70 -> 0 | J70: 2765
A71: Chirii | B71: 20.30.04 | F71: =H71 -> 0 | G71: =F71 -> 0
A72: Prestări servicii pentru transmiterea drepturilor | B72: 20.30.06 | F72: =H72 -> 0 | G72: =F72 -> 0
A73: Fondul Preşedintelui/Fondul conducătorului instituţiei publice | B73: 20.30.07 | F73: =H73 -> 0 | G73: =F73 -> 0
A74: Executarea silită a creanţelor bugetare | B74: 20.30.09 | F74: =H74 -> 0 | G74: =F74 -> 0
A75: Alte cheltuieli cu bunuri şi servicii | B75: 20.30.30 | D75: 10000 | E75: 5000 | F75: =H75 -> 817 | G75: =F75 -> 817 | H75: 817 | I75: =G75-H75 -> 0 | J75: 817
A76: TITLUL III DOBÂNZI (cod 30.01 la 30.03) | B76: 30
A77: TITLUL IV SUBVENŢII (cod 40.03+40.20+ 40.30) | B77: 40
A78: Subvenţii pentru acoperirea diferenţelor de preţ şi tarif | B78: 40.03
A79: Subvenţii pentru compensarea creşterilor neprevizionate ale preţurilor la combustibili | B79: 40.20
A80: Alte subvenţii | B80: 40.30
A81: TITLUL V FONDURI DE REZERVĂ (cod 50.04) | B81: 50
A82: Fond de rezervă bugetară la dispoziţia autorităţilor local | B82: 50.04
A83: TITLUL VI TRANSFERURI ÎNTRE UNITĂŢI ALE ADMINISTRAŢIEI PUBLICE (cod 51.01) | B83: 51
A84: Transferuri curente (cod 51.01.01+51.01.03+51.01.05+ 51.01.14+51.01.15+ 51.01.24 +51.01.26 +51.01.31+51.01.39+ 51.01.46+51.01.49+51.01.60+51.01.61+ 51.01.64) | B84: 51.01
A85: Transferuri către instituţii publice | B85: 51.01.01
A86: Acţiuni de sănătate | B86: 51.01.03
A87: Finanţarea aeroporturilor de interes local | B87: 51.01.05
... A109: Tichete cadou acordate pentru cheltuieli sociale | B109: 57.02.04
A110: TITLUL X ALTE CHELTUIELI (cod 59.01+59.02+59.08+59.11+59.12+59.15+59.17+59.20+59.22+59.25+59.30+59.35) | B110: 59 | D110: =D111+D112 -> 132000 | E110: =E111+E112 -> 36000 | F110: =F111+F112 -> 28599 | G110: =G111+G112 -> 28599 | H110: =H111+H112 -> 28599 | I110: =I111+I112 -> 0 | J110: =J111+J112 -> 25574
A111: Burse | B111: 59.01 | G111: =F111 -> 0 | I111: =G111-H111 -> 0
A112: Sume aferente persoanelor cu handicap neîncadrate | B112: 59.40 | D112: 132000 | E112: 36000 | F112: =H112 -> 28599 | G112: =F112 -> 28599 | H112: 28599 | I112: =G112-H112 -> 0 | J112: 25574
A113: OPERAŢIUNI FINANCIARE (cod 80+81) | B113: 79
A114: TRANSFERURI PNRR | B114: 60 | D114: =D115+D116 -> 1439075 | E114: =E115+E116 -> 0 | F114: =F115+F116 -> 0 | G114: =G115+G116 -> 0 | H114: =H115+H116 -> 0 | I114: =I115+I116 -> 0 | J114: =J115+J116 -> 0
A115: Fonduri europene nerambursabile PNRR | B115: 60,01,00 | D115: 1209307
A116: Sume aferente TVA | B116: 60,03,00 | D116: 229768
A117: TITLUL XVII RAMBURSĂRI DE CREDITE (cod 81.01+81.02) | B117: 81
A118: Rambursări de credite externe (cod 81.01.01 la 81.01.06) | B118: 81.01
A119: Rambursări de credite externe contractate de ordonatorii de credite | B119: 81.01.01
A120: Rambursări de credite externe din fondul de garantare | B120: 81.01.02
A121: Rambursări de credite aferente datoriei publice externe locale | B121: 81.01.05
...

Sheet anexa 11
A1: SPITALUL ORĂŞENESC TG. BUJOR | J1: ANEXA 11
A3: CONTUL DE EXECUŢIE A BUGETULUI INSTITUŢIILOR PUBLICE ŞI ACTIVITĂŢILOR FINANŢATE INTEGRAL SAU PARŢIAL DIN VENITURI PROPRII (DE SUBORDONARE LOCALĂ) - CHELTUIELI
A4: la data de 31 martie 2025
J6: - lei -
A7: DENUMIREA INDICATORILOR | B7: Cod indicator | C7: Credite de angajament | D7: Credite bugetare | F7: Angajamente bugetare | G7: Angajamente legale | H7: Plati efectuate | I7: Angajamente legale de platit | J7: Cheltuieli efective
D8: anuale aprobate | E8: trimestriale cumulate
A9: A | B9: B | C9: 1 | D9: 2 | E9: 3 | F9: 4 | G9: 5 | H9: 6 | I9: 7=5-6 | J9: 8
A10: TOTAL CHELTUIELI (cod 50.10+59.10+63.10+70.10+74.10+79.10) | B10: 49.10 | C10: =C11+C16+C22+C64+C73 -> 0 | D10: =D11+D16+D22+D64+D73 -> 18340075 | E10: =E11+E16+E22+E64+E73 -> 4436000 | F10: =F11+F16+F22+F64+F73 -> 14743587 | G10: =G11+G16+G22+G64+G73 -> 4238262 | H10: =H11+H16+H22+H64+H73 -> 3987926 | I10: =I11+I16+I22+I64+I73 -> 250336 | J10: =J11+J16+J22+J64+J73 -> 4218507
A11: Partea I-a SERVICII PUBLICE GENERALE (cod 54.15+55.15) | B11: 50.15
A12: Partea I-a SERVICII PUBLICE GENERALE (cod 54.10+55.10) | B12: 50.10
A13: Alte servicii publice generale (cod 54.10.10+54.10.50) | B13: 54.10
A14: Servicii publice comunitare de evidenţă a persoanelor | B14: 54.10.10
A15: Alte servicii publice generale | B15: 54.10.50
A16: Tranzacţii privind datoria publică şi împrumuturi | B16: 55.10
A17: Partea II-a APARARE, ORDINE PUBLICĂ ŞI SIGURANŢĂ NAŢIONALĂ (cod 61.10) | B17: 59.10
A18: Ordine publică şi siguranţă naţională (cod 61.10.03+61.10.50) | B18: 61.10
A19: Ordine publică (cod 61.10.03.04) | B19: 61.10.03
A20: Poliţia comunitară | B20: 61.10.03.04
A21: Alte cheltuieli în domeniul ordinii publice şi siguranţei naţionale | B21: 61.10.50
A22: Partea III-a CHELTUIELI SOCIAL-CULTURALE (cod 65.10+66.10+67.10+68.10) | B22: 63.10 | C22: =C38 -> 0 | D22: =D38 -> 18340075 | E22: =E38 -> 4436000 | F22: =F38 -> 14743587 | G22: =G38 -> 4238262 | H22: =H38 -> 3987926 | I22: =I38 -> 250336 | J22: =J38 -> 4218507
A23: Învăţământ (cod 65.10.03 la 65.10.05+65.10.07+ 65.10.11+65.10.50) | B23: 65.10
A24: Învaăţământ preşcolar şi primar (cod 65.10.03.01+65.10.03.02) | B24: 65.10.03
A25: Învăţământ preşcolar | B25: 65.10.03.01
A26: Învăţământ primar | B26: 65.10.03.02
A27: Învăţământ secundar (cod 65.10.04.01 la 65.10.04.03) | B27: 65.10.04
A28: Învăţământ secundar inferior | B28: 65.10.04.01
A29: Învăţământ secundar superior | B29: 65.10.04.02
A30: Învăţământ profesional | B30: 65.10.04.03
A31: Învăţămant postliceal | B31: 65.10.05
A32: Învăţământ nedefinibil prin nivel (cod65.10.07.04) | B32: 65.10.07
A33: Învăţământ special | B33: 65.10.07.04
A34: Servicii auxiliare pentru educaţie (cod 65.10.11.03+65.10.11.30) | B34: 65.10.11
... A37: Alte cheltuieli în domeniul învăţământului | B37: 65.10.50
A38: Sănătate (66.10.06+66.10.08+66.10.50) | B38: 66.10 | C38: =C39 -> 0 | D38: =D39 -> 18340075 | E38: =E39 -> 4436000 | F38: =F39 -> 14743587 | G38: =G39 -> 4238262 | H38: =H39 -> 3987926 | I38: =I39 -> 250336 | J38: =J39 -> 4218507
A39: Servicii medicale în unităţi cu paturi (cod 66.10.06.01) | B39: 66.10.06 | C39: =C40 -> 0 | D39: =D40 -> 18340075 | E39: =E40 -> 4436000 | F39: =F40 -> 14743587 | G39: =G40 -> 4238262 | H39: =H40 -> 3987926 | I39: =I40 -> 250336 | J39: =J40 -> 4218507
A40: Spitale generale | B40: 66.10.06.01 | C40: ='anexa 7b'!C9 -> 0 | D40: ='anexa 7b'!D9 -> 18340075 | E40: ='anexa 7b'!E9 -> 4436000 | F40: ='anexa 7b'!F9 -> 14743587 | G40: ='anexa 7b'!G9 -> 4238262 | H40: ='anexa 7b'!H9 -> 3987926 | I40: ='anexa 7b'!I9 -> 250336 | J40: ='anexa 7b'!J9 -> 4218507
A41: Servicii de sănătate publică | B41: 66.10.08
A42: Alte cheltuieli în domeniul sănătăţii (cod 66.10.50.50) | B42: 66.10.50
A43: Alte instituţii şi acţiuni sanitare | B43: 66.10.50.50
A44: Cultură, recreere şi religie (cod 67.10.03+67.10.05+67.10.50) | B44: 67.10
A45: Servicii culturale (cod 67.10.03.03 la 67.10.03.07+67.10.03.09 la 67.10.03.11+67.10.03.15+67.10.03.30) | B45: 67.10.03
A46: Muzee | B46: 67.10.03.03
A47: Instituţii publice de spectacole şi concerte | B47: 67.10.03.04
A48: Şcoli populare de artă şi meserii | B48: 67.10.03.05
A49: Case de cultură | B49: 67.10.03.06
A50: Camine culturale | B50: 67.10.03.07
A51: Universităţi populare | B51: 67.10.03.09
A52: Presă | B52: 67.10.03.10
... A65: Alte cheltuieli în domeniul asigurărilor şi asistenţei sociale | B65: 68.10.50
A66: Partea IV-a SERVICII ŞI DEZVOLTARE PUBLICĂ, LOCUINŢE, MEDIU ŞI APE (cod 70.10+74.10)
A67: Locuinţe, servicii şi dezvoltare publică (cod 70.10.03+70.10.04+70.10.50) | B67: 70.10
A68: Locuinţe (cod 70.10.03.01+70.10.03.30) | B68: 70.10.03
A69: Dezvoltarea sistemului de locuinţe | B69: 70.10.03.01
A70: Alte cheltuieli în domeniul locuinţelor | B70: 70.10.03.30
A71: Servicii şi dezvoltare publică | B71: 70.10.04
A72: Alte servicii în domeniul locuinţelor, serviciilor şi dezvoltării comunale | B72: 70.10.50
A73: Protecţia mediului(cod 74.10.03 la 70.10.05) | B73: 74.10
A74: Reducerea şi controlul poluării | B74: 74.10.03
A75: Protecţia biosferei şi a mediului natural | B75: 74.10.04
A76: Salubritate şi gestiunea deşeurilor (cod 74.10.05.01+74.10.05.02) | B76: 74.10.05
A77: Salubritate | B77: 74.10.05.01
A78: Colectarea, tratarea şi distrugerea deşeurilor | B78: 74.10.05.02
... A93: DEFICIT 1) (cod 49.10-00.01) | B93: 99.10
A94: CHELTUIELILE SECŢIUNII DE FUNCŢIONARE (cod 50.10+59.10+63.10+70.10+74.10+79.10) | B94: 49.10 | C94: =C105 -> 0 | D94: =D105 -> 16901000 | E94: =E105 -> 4436000 | F94: =F105 -> 14743587 | G94: =G105 -> 4238262 | H94: =H105 -> 3987926 | I94: =I105 -> 250336 | J94: =J105 -> 4174317
A95: Partea I-a SERVICII PUBLICE GENERALE (cod 54.10+55.10) | B95: 50.10
A96: Alte servicii publice generale (cod 54.10.10+54.10.50) | B96: 54.10
A97: Servicii publice comunitare de evidenţă a persoanelor | B97: 54.10.10
A98: Alte servicii publice generale | B98: 54.10.50
A99: Tranzacţii privind datoria publică şi împrumuturi | B99: 55.10
A100: Partea II-a APARARE, ORDINE PUBLICĂ ŞI SIGURANŢĂ NAŢIONALĂ (cod 61.10) | B100: 59.10
A101: Ordine publică şi siguranţă naţională (cod 61.10.03 +61.10.50) | B101: 61.10
A102: Ordine publică (cod 61.10.03.04) | B102: 61.10.03
A103: Poliţia comunitară | B103: 61.10.03.04
A104: Alte cheltuieli în domeniul ordinii publice şi siguranţei naţionale | B104: 61.10.50
A105: Partea III-a CHELTUIELI SOCIAL-CULTURALE(cod 65.10+66.10+67.10+68.10) | B105: 63.10 | C105: =C121 -> 0 | D105: =D121 -> 16901000 | E105: =E121 -> 4436000 | F105: =F121 -> 14743587 | G105: =G121 -> 4238262 | H105: =H121 -> 3987926 | I105: =I121 -> 250336 | J105: =J121 -> 4174317
A106: Învăţământ (cod 65.10.03 la 65.10.05+65.10.07+ 65.10.11+65.10.50) | B106: 65.10
A107: Învăţământ preşcolar şi primar (cod 65.10.03.01+65.10.03.02) | B107: 65.10.03
A108: Învăţământ preşcolar | B108: 65.10.03.01
A109: Învăţământ primar | B109: 65.10.03.02
A110: Învăţământ secundar (cod 65.10.04.01 la 65.10.04.03) | B110: 65.10.04
A111: Învăţământ secundar inferior | B111: 65.10.04.01
A112: Învăţământ secundar superior | B112: 65.10.04.02
A113: Învăţământ profesional | B113: 65.10.04.03
A114: Învăţământ postliceal | B114: 65.10.05
A115: Învăţământ nedefinibil prin nivel (cod65.10.07.04) | B115: 65.10.07
A116: Învăţământ special | B116: 65.10.07.04
A117: Servicii auxiliare pentru educaţie (cod 65.10.11.03+ 65.10.11.30) | B117: 65.10.11
... A120: Alte cheltuieli în domeniul învăţământului | B120: 65.10.50
A121: Sănătate (66.10.06+66.10.08+66.10.50) | B121: 66.10 | C121: =C122 -> 0 | D121: =D122 -> 16901000 | E121: =E122 -> 4436000 | F121: =F122 -> 14743587 | G121: =G122 -> 4238262 | H121: =H122 -> 3987926 | I121: =I122 -> 250336 | J121: =J122 -> 4174317
A122: Servicii medicale în unităţi cu paturi (cod 66.10.06.01) | B122: 66.10.06 | C122: =C123 -> 0 | D122: =D123 -> 16901000 | E122: =E123 -> 4436000 | F122: =F123 -> 14743587 | G122: =G123 -> 4238262 | H122: =H123 -> 3987926 | I122: =I123 -> 250336 | J122: =J123 -> 4174317
A123: Spitale generale | B123: 66.10.06.01 | C123: ='anexa 7b'!C10 -> 0 | D123: ='anexa 7b'!D10 -> 16901000 | E123: ='anexa 7b'!E10 -> 4436000 | F123: ='anexa 7b'!F10 -> 14743587 | G123: ='anexa 7b'!G10 -> 4238262 | H123: ='anexa 7b'!H10 -> 3987926 | I123: ='anexa 7b'!I10 -> 250336 | J123: ='anexa 7b'!J10 -> 4174317
A124: Servicii de sănătate publică | B124: 66.10.08
A125: Alte cheltuieli în domeniul sănătăţii (cod 66.10.50.50) | B125: 66.10.50
A126: Alte instituţii şi acţiuni sanitare | B126: 66.10.50.50
A127: Cultura, recreere şi religie (cod 67.10.03+67.10.05+67.10.50) | B127: 67.10
A128: Servicii culturale (cod 67.10.03.03 la 67.10.03.07+67.10.03.09 la 67.10.03.11+67.10.03.15+67.10.03.30) | B128: 67.10.03
A129: Muzee | B129: 67.10.03.03
A130: Instituţii publice de spectacole şi concerte | B130: 67.10.03.04
A131: Şcoli populare de artă şi meserii | B131: 67.10.03.05
A132: Case de cultură | B132: 67.10.03.06
...
